BEGIN:VCALENDAR
VERSION:2.0
PRODID:-//wp-events-plugin.com//7.2.3.1//EN
TZID:Europe/Warsaw
X-WR-TIMEZONE:Europe/Warsaw
BEGIN:VEVENT
UID:3453@night4u.pl
DTSTART;TZID=Europe/Warsaw:20190313T180000
DTEND;TZID=Europe/Warsaw:20190313T210000
DTSTAMP:20190111T110916Z
URL:https://night4u.pl/wydarzenia/sonbird-open-stage-13-03-2019-klub-stodo
 la/
SUMMARY:Sonbird - Open Stage\, 13.03.2019\, Klub Stodoła
DESCRIPTION:TIMETABLE:\n18:00 - otwarcie drzwi\n19:00 - początek koncertu 
 \n\nWiosną 2019 roku Sonbird ruszają w trasę promującą debiutancki al
 bum. 13 marca ponownie odwiedzą Warszawę\, gdzie zagrają w Klubie Stodo
 ła na Open Stage. Bilety na wydarzenie są już dostępne w sprzedaży!\n
 \nPremierę ma właśnie najnowszy singiel zespołu Sonbird - "Wodospady"\
 , do którego przygotowano specjalne wideo z Kina Sława.\n\nUtwór "Wodos
 pady" zapowiada debiutancki album Sonbird. Premiera płyty zatytułowanej 
 "Głodny" zaplanowana jest na 22 lutego 2019 roku. Będzie to muzyczny zap
 is dotychczasowej drogi zespołu\, która mimo tego\, że jest krótka\, j
 est także pełna sukcesów. Cała tajemnica polega na zgrabnych\, indiero
 ckowych piosenkach\, wykonanych z rzadko spotykanym zaangażowaniem\, twor
 zących album\, do którego będzie chciało się wracać.\n\nDo singla "W
 odospady" powstał obraz zarejestrowany w Kinie Sława w Międzyrzecu Podl
 askim. W nagraniu gościnnie udział wzięła wiolonczelistka Krystyna Wi
 śniewska. Za wideo w całości odpowiedzialny jest Łukasz Mateusiak.\n\n
 Kino Sława stało się już\, w pewnym sensie\, symbolem wytwórni Jazzbo
 y. Wcześniej swoją live sesje zarejestrował tam między innymi Kortez.\
 n\nDotychczasowy dorobek Sonbird sprowadza się do szybko zapracowanej opi
 nii świetnego zespołu koncertowego\, o czym można było przekonać się
  na największych festiwalach minionego lata (zagrali między innymi podcz
 as OFF Festival\, Kraków Live Festival\, Hej Fest\, Rock In Summer Festiv
 al\, Męskie Granie) i udanej jesiennej trasie koncertowej.\n\nBilety:\nPr
 zedsprzedaż: 35 PLN (miejsca stojące)\nW dniu koncertu: 45 PLN (miejsca 
 stojące)\n\ndo kupienia w kasie Klubu Stodoła (Warszawa ul. Batorego 10)
 \nSprzedaż internetowa: www.stodola.pl\, www.ticketclub.pl\,\n\n\nPodane 
 godziny są orientacyjne i mogą ulec zmianie.\n\nKup kartę podarunkową 
 klubu Stodoła i obdaruj kogoś bliskiego wyjątkowym koncertem. Szczegó
 ły TUTAJ.\n\nOsoby poniżej 16 roku życia mogą uczestniczyć w koncerci
 e wyłącznie pod opieką rodzica (lub wskazanego przez niego opiekuna).\n
 Osoby\, które ukończyły 16 rok życia\, a nie ukończyły 18 roku życi
 a muszą mieć przy sobie oświadczenie ze zgodą na udział w imprezie\, 
 podpisane przez rodzica bądź prawnego opiekuna.\nPobierz oświadczenie:\
 nhttp://pliki.stodola.pl/OswiadczenieOpiekunaKlubStodola.pdf\n\nWszelkie p
 ytania dotyczące wsparcia osób z problemami z poruszaniem się\, prosimy
  kierować na adres: niepelnosprawni@stodola.pl
ATTACH;FMTTYPE=image/jpeg:https://night4u.pl/wp-content/uploads/2019/01/11
 074_image_49099441_10155628413491883_1501578170782973952_o.jpg
CATEGORIES:mazowieckie
LOCATION:klub Stodoła\, \, 
X-APPLE-STRUCTURED-LOCATION;VALUE=URI;X-ADDRESS=\, ;X-APPLE-RADIUS=100;X-TI
 TLE=klub Stodoła:geo:0,0
END:VEVENT
BEGIN:VTIMEZONE
TZID:Europe/Warsaw
X-LIC-LOCATION:Europe/Warsaw
BEGIN:STANDARD
DTSTART:20181028T020000
TZOFFSETFROM:+0200
TZOFFSETTO:+0100
TZNAME:CET
END:STANDARD
END:VTIMEZONE
END:VCALENDAR