BEGIN:VCALENDAR
VERSION:2.0
PRODID:-//wp-events-plugin.com//7.2.3.1//EN
TZID:Europe/Warsaw
X-WR-TIMEZONE:Europe/Warsaw
BEGIN:VEVENT
UID:47280@night4u.pl
DTSTART;TZID=Europe/Warsaw:20200526T200000
DTEND;TZID=Europe/Warsaw:20200526T220000
DTSTAMP:20200424T190012Z
URL:https://night4u.pl/wydarzenia/sophie-hutchings-i-bardzobardzo-i-warsza
 wa-i-26-05-2020/
SUMMARY:Sophie Hutchings I BARdzoBardzo I Warszawa I 26.05.2020
DESCRIPTION:Tchnienia mają zaszczyt zaprosić na kolejny wieczór z muzyk
 ą:\n\nSophie Hutchings Music powraca do Polski! Już 26 maja australijska
  pianistka wystąpi w Warszawie w klubie BARdzo bardzo przy ul. Nowogrodzk
 iej 11.\n\nBilety na GoOut →\n\n„Kompozycja muzyki instrumentalnej jes
 t dla mnie sposobnem by wyrazić coś\, co brzmi gdzieś bardzo głęboko 
 bez potrzeby używania słów. To właśnie urok tego rodzaju muzyki: jest
  do odczuwania a nie wypowiadania. I czasem nasze uczucia są nie do wypow
 iedzenia\, i to samo w sobie jest wyjątkowe. Chciałabym aby słuchacz w 
 tym się zanurzyć bez zbędnych wyjaśnień."\n\nPorównywana do takich a
 rtystów jak Michal Nyman\, Max Richter\, Dustin O’halloran czy Nils Fra
 hm\, Sophie Hutchings zyskała pochwałę krytyków na całym świecie. St
 ała się niezwykle cenioną kompozytorką\, której muzyka trafiła międ
 yz innymi do filmów w Japonii jak i w Europie. Występowała wraz z Olafu
 rem Arnaldsem\, Hauschką\, Federico Albanese czy Lambertem.
ATTACH;FMTTYPE=image/jpeg:https://night4u.pl/wp-content/uploads/2020/02/15
 7665_image_86289270_1654132428057800_4734583428110876672_o.jpg
CATEGORIES:mazowieckie
LOCATION:BARdzo bardzo\, ul. Nowogrodzka 11\, Warsaw\, 00-513\, Poland
GEO:52.229429;21.017876
X-APPLE-STRUCTURED-LOCATION;VALUE=URI;X-ADDRESS=ul. Nowogrodzka 11\, Warsaw
 \, 00-513\, Poland;X-APPLE-RADIUS=100;X-TITLE=BARdzo bardzo:geo:52.229429,
 21.017876
END:VEVENT
BEGIN:VTIMEZONE
TZID:Europe/Warsaw
X-LIC-LOCATION:Europe/Warsaw
BEGIN:DAYLIGHT
DTSTART:20200329T030000
TZOFFSETFROM:+0100
TZOFFSETTO:+0200
TZNAME:CEST
END:DAYLIGHT
END:VTIMEZONE
END:VCALENDAR