BEGIN:VCALENDAR
VERSION:2.0
PRODID:-//wp-events-plugin.com//7.2.3.1//EN
TZID:Europe/Warsaw
X-WR-TIMEZONE:Europe/Warsaw
BEGIN:VEVENT
UID:6840@night4u.pl
DTSTART;TZID=Europe/Warsaw:20190402T200000
DTEND;TZID=Europe/Warsaw:20190402T230000
DTSTAMP:20190210T152539Z
URL:https://night4u.pl/wydarzenia/sophie-zelmani-zaspiewa-we-wroclawiu/
SUMMARY:Sophie Zelmani zaśpiewa we Wrocławiu!
DESCRIPTION:Sophie Zelmani zaśpiewa we Wrocławiu!\n\nSophie Zelmani\,  je
 dna z najciekawszych reprezentantek światowej sceny alternatywnego pop ro
 cka\,  przyjeżdża do Wrocławia promować swoją najnowszą płytę ”S
 unrise”.\nLaureatka nagrody Grammy wystąpi na zaproszenie Ethno Jazz Fe
 stival  2 kwietnia w Sali Gotyckiej w Starym Klasztorze.\n\nSophie Zelmani
 \nPrawdziwe nazwisko Sophie Edkvist. Szwedzka piosenkarka z kręgu alterna
 tywnego pop rocka. Urodziła się 12 lutego 1972 roku na przedmieściach S
 ztokholmu. W wieku czternastu lat dostała od ojca swoją pierwszą gitar
 ę. Mimo że nie miała żadnego profesjonalnego przygotowania\, bardzo sz
 ybko zaczęła pisać teksty i nagrywać piosenki w lokalnym studiu. W ten
  sposób powstały taśmy demo\, które postanowiła rozesłać do różny
 ch wytwórni. Jako pierwszy\, odpowiedział szwedzki oddział Sony Music. 
 \n\nW 1995 roku\, po podpisaniu kontraktu – wydała swój debiutancki lo
 ngplay Sophie Zelmani. Mimo\, że cały materiał nagrano w zaledwie dwa t
 ygodnie\, to jednak prace w studiu trwały kilka miesięcy. W ciepłych re
 cenzjach porównywano jej kompozycje do wczesnych dokonań Van Morrisona.\
 nRok później wokalistka otrzymała Grammy w kategorii Najlepszy Debiut.\
 n\nW 1997 roku\, gdy sprzedaż krążka osiągnęła pułap 200 tysięcy e
 gzemplarzy – Columbia Records postanowiła wykupić prawa do płyty i ru
 szyć z kampanią promocyjną na rynku amerykańskim. W następnym roku uk
 azał się drugi album artystki – Precious Burden\, a w 1999 roku świat
 ło dzienne ujrzała płyta Time to Kill. W przeciwieństwie do dwóch pop
 rzednich – ten krążek Zelmani nagrała już z towarzyszeniem regularne
 go zespołu.\nW 2002 roku pojawił się longplay Sing and Dance\, z ciekaw
 ymi elementami country i odniesieniami do twórczości Boba Dylana. Dwa la
 ta później do sklepów trafił album Love Affair. W 2005 roku artystka w
 ydała pierwszą w swojej karierze kompilację – A Decade of Dreams 1995
 -2005\, poszerzoną o trzy premierowe utwory.\n\nPo dwóch latach\, Zelman
 i wróciła studyjnym krążkiem Memory Loves You. Rok później fani otrz
 ymali kolejną płytę – The Ocean and Me. Płyta miała dla samej artys
 tki także wymiar terapeutyczny. Od lat Zelmani panicznie boi się wody. T
 a fobia stanowi dla niej problem\, z którym stara się walczyć. Stąd w
 śród piosenek – utwór The Ocean and Me\, opowiadający o lęku i rów
 noczesnej fascynacji artystki – wodą. W 2008 roku do sklepów trafiła 
 jej druga składanka – Original Album Classics.\nPod koniec lutego 2010 
 roku wokalistka zaprezentowała swoje najnowsze dzieło – I’m the Rain
 . Album jest świetnym połączeniem nisko zawieszonego wokalu Sophie oraz
  delikatnego i uspokajającego tła muzycznego. Materiał powstawał stopn
 iowo – wpierw nagrywano wokal\, następnie dokładano do niego gitary\, 
 a dopiero na samym końcu resztę instrumentów dograł zespół.\n\nObecn
 ie współpracują z nią następujący muzycy – klawiszowiec Rickard Ni
 lsso\, perkusista Peter Korhonen oraz basista Thomas Axelsson.\n\n2.04.19 
 godz.20.00 Sala Gotycka w Starym Klasztorze\, ul. Purkyniego 1\nEthno Jazz
  Festival \nSOPHIE ZELMANI ”Sunrise”\nbilety: 100 zł – I miejsca\, 
 80 zł – II miejsca\, 60 zł - miejsca stojące \n\nBilety dostępne w s
 ieci salonów Empik\, Saturn i MediaMarkt w całej Polsce\noraz w serwisac
 h: www.staryklasztor.com.pl/bilety/\, www.biletin.pl\, www.biletyna.pl\, w
 ww.eventim.pl\, www.ebilet.pl\, www.kupbilecik.pl\, www.empikbilety.pl \nr
 ezerwacje: bilety@o2.pl\n\nUwaga\, kupuj bilety wyłącznie w autoryzowany
 ch punktach! \nZakup biletów poza autoryzowanymi punktami sprzedaży (Fac
 ebook\, aukcje internetowe\, systemy odsprzedaży biletów itp.) stwarza r
 yzyko zakupu biletów nieoryginalnych lub nieważnych\, które nie umożli
 wią wejścia na koncert.
ATTACH;FMTTYPE=image/jpeg:https://night4u.pl/wp-content/uploads/2019/02/19
 972_image_44985066_1916650868450039_1213108994449604608_o.jpg
CATEGORIES:dolnośląskie
LOCATION:Stary Klasztor\, Purkyniego 1\, Wroclaw\, 50-155\, Poland
GEO:51.110198;17.039162
X-APPLE-STRUCTURED-LOCATION;VALUE=URI;X-ADDRESS=Purkyniego 1\, Wroclaw\, 50
 -155\, Poland;X-APPLE-RADIUS=100;X-TITLE=Stary Klasztor:geo:51.110198,17.0
 39162
END:VEVENT
BEGIN:VTIMEZONE
TZID:Europe/Warsaw
X-LIC-LOCATION:Europe/Warsaw
BEGIN:DAYLIGHT
DTSTART:20190331T030000
TZOFFSETFROM:+0100
TZOFFSETTO:+0200
TZNAME:CEST
END:DAYLIGHT
END:VTIMEZONE
END:VCALENDAR