BEGIN:VCALENDAR
VERSION:2.0
PRODID:-//wp-events-plugin.com//7.2.3.1//EN
TZID:Europe/Warsaw
X-WR-TIMEZONE:Europe/Warsaw
BEGIN:VEVENT
UID:24875@night4u.pl
DTSTART;TZID=Europe/Warsaw:20191122T190000
DTEND;TZID=Europe/Warsaw:20191122T220000
DTSTAMP:20191118T155416Z
URL:https://night4u.pl/wydarzenia/sorry-boys-trasa-milosc-krakow-22-11-201
 9/
SUMMARY:SORRY BOYS / Trasa Miłość / Kraków 22.11.2019
DESCRIPTION:SORRY BOYS „Trasa Miłość 2019”\n22.11.2019 Kraków\, Kwa
 drat\, ul. Skarżyńskiego 1\n\nOtwarcie drzwi: 19.00\nStart: 20.00\n\nBil
 ety do nabycia:\n\nBILETY KOLEKCJONERSKIE:\n\nKlub Kwadrat\, ul. Skarżyń
 skiego 1\nMetal Shop\, ul. Długa 17\nKlub Dziekanat\, ul. Pędzichów 23\
 nKlub Lochness\, ul Warszawska 15\nPłyty Winylowe\, ul.Dobrego Pasterza 1
 00\nKlub Kombinator os. Szkolne 25\nZET PE TE ul Dolnych Młynów 10\nNowa
  Księgarnia os Zgody 7\n\nWysyłkowa sprzedaż biletów kolekcjonerskich:
 \ntel.12 632 21 47 (metal.shop.dluga@gmail.com)\n\nBILETY ELEKTRONICZNE:\n
 \nBilety z systemu Ticketmaster: https://www.ticketmaster.pl/event/13683 o
 raz w sieci sklepów: EMPIK\, MEDIA MARKT\, SATURN w całej Polsce.\n\nBil
 ety z systemu eBilet: https://www.ebilet.pl/muzyka/rock/sorry-boys-koncert
 / oraz w sieci sklepów: EMPIK\, MEDIA MARKT\, SATURN w całej Polsce.\n\n
 Bilety z sieci EMPIK: https://empikbilety.pl/wydarzenie/sorry-boys-trasa-m
 ilosc-2019-krakow/listopad-2019\n\nBilety z systemu Going: https://goingap
 p.pl/evt/2144612/sorry-boys-trasa-milosc\n\n49 pln (I pula)\, 55 pln (II p
 ula)\, 60 pln (w dniu koncertu)\n\n„Trasa Miłość 2019” rozpocznie s
 ię w połowie października i potrwa do połowy grudnia\, a swoim zasięg
 iem obejmie ponad 20 miast. Podczas koncertów muzycy zaprezentują materi
 ał z najnowszej płyty „Miłość”\, która miała swoją premierę w
  maju tego roku. Do najnowszych kompozycji\, wśród których na pewno nie
  zabraknie „Absolutnie\, absolutnie” czy „Jesteś Pragnieniem”\, d
 ołączą starannie dobrane utwory z poprzednich albumów i razem stworzą
  niepowtarzalną miłosną opowieść. Doznaniom muzycznym towarzyszyć b
 ędzie specjalnie przygotowana oprawa wizualna. Pojawiać się będą tak
 że muzyczne niespodzianki!\n\nDo zobaczenia!\n\nPlan koncertów:\n\n11.10
  – Rzeszów\, Pod palmą\n12.10 – Lublin\, Klub 30\n19.10 – Wodzisł
 aw Śląski\, WCK\n20.10 – Bielsko – Biała\, Miasto\n24.10 – Bydgos
 zcz\, MCK\n25.10 – Szczecin\, Stara Rzeźnia\n26.10 - Rypin\, RDK\n08.11
  – Opole\, NCPP\n09.11 – Katowice\, Rialto\n15.11 – Olsztyn\, CEiIK\
 n17.11 – Kielce\, Bohomass Lab\n21.11 – Łódź\, Wytwórnia\n22.11 
 – Kraków\, Kwadrat\n27.11 - Toruń\, Dwór Artusa\n29.11 - Kołobrzeg\,
  RCK\n30.11 – Poznań\, Tama\n07.12 – Gdańsk\, Parlament\n08.12 – W
 arszawa\, Palladium\n11.12 – Wrocław\, Stary Klasztor\n12.12 – Zielon
 a Góra\, Kawon\n15.12 – Białystok\, Zmiana Klimatu\n\nFB: https://www.
 facebook.com/sorryboysmusic/\nIG: https://www.instagram.com/sorryboysmusic
 /\nSPOTIFY: https://spoti.fi/2YIuptd\n\nYOUTUBE:\n"Jesteś Pragnieniem": h
 ttps://youtu.be/IH-AjpkwtE4\n"Absolutnie\, absolutnie": https://youtu.be/L
 _JjrcAGW4o\n\nPłyta "Miłość" dostępna w salonach Empik: https://bit.l
 y/2Vxk6Y7\nBędzie równeż dostępna podczas całej trasy.\n\n#MIŁOŚĆ
ATTACH;FMTTYPE=image/jpeg:https://night4u.pl/wp-content/uploads/2019/10/58
 481_image_69428304_2930038520401352_2731524862962040832_o.jpg
CATEGORIES:małopolskie
LOCATION:Hala Forum\, Marii Konopnickiej 28\, Kraków\, 30-302\, Poland
GEO:50.04504;19.93639
X-APPLE-STRUCTURED-LOCATION;VALUE=URI;X-ADDRESS=Marii Konopnickiej 28\, Kra
 ków\, 30-302\, Poland;X-APPLE-RADIUS=100;X-TITLE=Hala Forum:geo:50.04504,
 19.93639
END:VEVENT
BEGIN:VTIMEZONE
TZID:Europe/Warsaw
X-LIC-LOCATION:Europe/Warsaw
BEGIN:STANDARD
DTSTART:20191027T020000
TZOFFSETFROM:+0200
TZOFFSETTO:+0100
TZNAME:CET
END:STANDARD
END:VTIMEZONE
END:VCALENDAR