BEGIN:VCALENDAR
VERSION:2.0
PRODID:-//wp-events-plugin.com//7.2.3.1//EN
TZID:Europe/Warsaw
X-WR-TIMEZONE:Europe/Warsaw
BEGIN:VEVENT
UID:48637@night4u.pl
DTSTART;TZID=Europe/Warsaw:20200727T190000
DTEND;TZID=Europe/Warsaw:20200727T210000
DTSTAMP:20200504T090449Z
URL:https://night4u.pl/wydarzenia/sosnowiec-stand-up-michal-leja/
SUMMARY:Sosnowiec Stand-up : Michał Leja
DESCRIPTION:ZMIANA TERMINU na 27.07.2020\n.\n.\nMichał Leja - doświadczon
 y stand-uper\, improwizator i gospodarz programu „Michał Leja Show”. 
 Niecodzienne spojrzenie na świat\, świetna interakcja z publicznością 
 oraz otwartość na inne formy sprawiają\, że każdy występ Michała to
  rozrywka na najwyższym poziomie.\n\nProwadzenie: Olka Szczęśniak\nSupp
 ort : Paulina Potocka\n\n--------\n\nBilety: Tylko na kupbilecik.pl\nhttps
 ://www.kupbilecik.pl/imprezy/50715/Sosnowiec/Sosnowiec+Stand-up/\n\n------
 ---------------------------------------\n\n* Wydarzenie dla osób powyżej
  18 roku życia.  \n** Nagrywanie występu w formie audio i video jest zab
 ronione \n*** Organizator zastrzega sobie prawo do wyproszenia osób utrud
 niających przebieg wydarzenia\, bez obowiązku zwrotu pieniędzy za bilet
  tymże osobom.
ATTACH;FMTTYPE=image/jpeg:https://night4u.pl/wp-content/uploads/2020/02/16
 6131_image_87436317_1232626743608445_6675290247921664000_o.jpg
CATEGORIES:śląskie
LOCATION:Remedium\, Sucha 7c\, Sosnowiec\, 41-200\, Poland
GEO:50.297428;19.133436
X-APPLE-STRUCTURED-LOCATION;VALUE=URI;X-ADDRESS=Sucha 7c\, Sosnowiec\, 41-2
 00\, Poland;X-APPLE-RADIUS=100;X-TITLE=Remedium:geo:50.297428,19.133436
END:VEVENT
BEGIN:VTIMEZONE
TZID:Europe/Warsaw
X-LIC-LOCATION:Europe/Warsaw
BEGIN:DAYLIGHT
DTSTART:20200329T030000
TZOFFSETFROM:+0100
TZOFFSETTO:+0200
TZNAME:CEST
END:DAYLIGHT
END:VTIMEZONE
END:VCALENDAR