BEGIN:VCALENDAR
VERSION:2.0
PRODID:-//wp-events-plugin.com//7.2.3.1//EN
TZID:Europe/Warsaw
X-WR-TIMEZONE:Europe/Warsaw
BEGIN:VEVENT
UID:4961@night4u.pl
DTSTART;TZID=Europe/Warsaw:20190131T210000
DTEND;TZID=Europe/Warsaw:20190201T040000
DTSTAMP:20190206T194020Z
URL:https://night4u.pl/wydarzenia/sound-of-ukraine-31-01-studenci-z-listy-
 fb-2200-free/
SUMMARY:Sound of Ukraine // 31.01 // Studenci z listy FB 22:00 FREE!
DESCRIPTION:Przedstawiamy Wam cykl imprez\, którego autorami są: Alex Mec
 hew & Vorobskix. Impreza jest skierowana do WSZYSTKICH studentów oraz klu
 bowiczów Rzeszowa.\n-----------------------------------------------------
 -----------\nWe'd like to present to you a concert tour called 'Sound of U
 kraine' by Alex Mechew & Vorobskix. This event was made for ALL students i
 n Rzeszow.\n\n?Жешув ?\n\n▪Праздники позади\, впе
 реди сессия - самое время сделать паузу в
  подготовке и хорошенько оторваться ? ?\n
 ▪Ждем Вас в четверг\, 31 января\, в клубе Shi
 ne на первой вечеринке в Новом Году ?\n\nЖдё
 м всех ?\n\nНачало – 21:00 ?\n\n? ВХОД:\n\n21:00-22:00 - 
 все студенты со встречи FB заходят за FREE\n2
 1:00-22:00 - вне списка вход 5 zł\nпосле 22:00 - ДЛЯ
  ВСЕХ вход 10 zł\n\nP.S. помните\, что когда вы 
 записываетесь во встречу\, ваше имя и фам
 илия в фейсбуке должно быть идентично ва
 шей легитимации. В противном случае вам 
 придется заплатить за вход\, даже если вы
  состоите в списках. Также не забывайте п
 ро настройки приватности в фейсбуке (отк
 ройте их или же вас просто фейсбук не зап
 ишет во встречу публично) и помните\, что 
 списки закрываются ровно в 20:00 в день веч
 еринки.\n\n\n✰ Sound of Ukraine ??\nhttps://facebook.com/soundofuk
 raine\nvk.com/soundofukraine\nintagram.com/soundofukraine\n\nLINE-UP:\n\n
 ✰ Alex Mechew & Vorobskix ?\n\nhttps://facebook.com/alexmechewandvorobsk
 ix\n\nhttps://instagram.com/alexmechew\nhttps://instagram.com/vorobskix\n-
 ---------------------------------------------\nREZERWACJE STOLIKÓW:\nhttp
 ://rzeszow.shineclub.com.pl/\n--------------------------------------------
 --\nРЕЗЕРВАЦИЯ СТОЛОВ:\nhttp://rzeszow.shineclub.com.pl/\n
 —------------------------------------------—\n\n? WSTĘP:\n21:00-22:00
  - wszyscy studenci\, którzy dołączyli do tego wydarzenia na FB wchodz
 ą za FREE\n21:00-22:00 - pozostałe osoby 5 zł\npo 22:00 - 10 zł\n\nLIS
 TA FB ZAMYKAMY W DNIU IMPREZY O 20:00
ATTACH;FMTTYPE=image/jpeg:https://night4u.pl/wp-content/uploads/2019/01/15
 764_image_51057903_1159891807516106_5627183636307509248_n.jpg
CATEGORIES:podkarpackie
LOCATION:Shine Club Rzeszów\, 3 Maja 11\, Rzeszów\, 35-216\, Poland
GEO:50.036459;22.001808
X-APPLE-STRUCTURED-LOCATION;VALUE=URI;X-ADDRESS=3 Maja 11\, Rzeszów\, 35-2
 16\, Poland;X-APPLE-RADIUS=100;X-TITLE=Shine Club Rzeszów:geo:50.036459,2
 2.001808
END:VEVENT
BEGIN:VTIMEZONE
TZID:Europe/Warsaw
X-LIC-LOCATION:Europe/Warsaw
BEGIN:STANDARD
DTSTART:20181028T020000
TZOFFSETFROM:+0200
TZOFFSETTO:+0100
TZNAME:CET
END:STANDARD
END:VTIMEZONE
END:VCALENDAR