BEGIN:VCALENDAR
VERSION:2.0
PRODID:-//wp-events-plugin.com//7.2.3.1//EN
TZID:Europe/Warsaw
X-WR-TIMEZONE:Europe/Warsaw
BEGIN:VEVENT
UID:43946@night4u.pl
DTSTART;TZID=Europe/Warsaw:20200404T130000
DTEND;TZID=Europe/Warsaw:20200405T030000
DTSTAMP:20200404T052024Z
URL:https://night4u.pl/wydarzenia/south-vibez/
SUMMARY:South Vibez
DESCRIPTION:South Vibez to wyjątkowe wydarzenie taneczne\, skupiające si
 ę na stylach tańca tj. hip hop i popping\, które organizowane są w Kra
 kowie. \n\nEvent taneczny ma na celu pozwolić tancerzom wziąć udział w
  zawodach tanecznych w 2 kategoriach OPEN. Przebieg zawodów będzie opier
 ał się na eliminacjach w postaci prezentacji pojedynczych osób. Wybrane
  osoby\, które przejdą pierwszy etap dostaną przepustkę do najlepszej 
 TOP8. \nKoncept walk będzie polegał na zasadzie. \,\,CHOOSE YOUR OPPONEN
 T " czyli indywidualnym wyborze przeciwnika wyłonionego z eliminacji (wyb
 ierając swojego przeciwnika to Ty rozpoczynasz walkę do momentu kiedy ni
 e pozostaną 2 osoby na parkiecie). Na finał przygotowaliśmy unikatowy p
 omysł\, ale poznacie go dopiero w dniu eventu.  Całość zawodów zwień
 czymy wisienką na torcie w postaci afteru\, który będzie trwał do bia
 łego rana! \nStawiamy na dobrą atmosferę oraz komfort każdej osoby nie
 zależnie czy będzie uczestnikiem\, gościem czy widzem podczas całego w
 ydarzenia. \n\nNatomiast same zawody to nie wszystko\, ponieważ przygotow
 aliśmy dla Was również warsztaty z zaproszonymi goścmi z Polski\, któ
 rzy wzmocnią Wasze umiejętności oraz skilla. :) \n\nWięcej info poniż
 ej:\n\n■ DZIEŃ WALK:\n4 kwietnia ( sobota )\n\n■ MIEJSCE:\nKLUB B4 B4
  Bracka 4\nAdres: Bracka 4\, 31-005 Kraków\n\n■  AFTER PARTY\n4 kwietni
 a (sobota)\nKLUB B4 B4 Bracka 4 \nDj Beezee \n* Wstęp wolny +18 \n\n■ K
 ATEGORIE: \nHIP HOP (1vs1) &amp\; POPPING (1VS1):\n\n■  SĘDZIOWIE:\n- G
 rzegorz ALIENO Pittner (Popping)\n- Monika ŻUREK Łaskarzewska (Hip Hop)\
 n\n■  DJ: \n- Beezee \n\n■  MC:\n- Jakub KUBA Ciąpała\n\n■  VIDEO:
 \n- Piotr Cembra Cembrowski\n\n■  Nagrody: \n- ▶️ HIP HOP 1vs1:\n1 M
 IEJSCE - 700 zł\n+ voucher - 300 zł do 2p\n+ voucher - classy na @INFINI
 TE POPPING WORLD 2020\n* o ilości class zwycięzca zostanie poinformowany
  przez organizatorów.\n+ voucher - do sklepu Hulaj Street Wear\n+ voucher
  - 300 zł na Fair Play Dance Camp\n+ nagrody rzeczowe od sponsorów\n2 MI
 EJSCE -\n+ voucher - do sklepu Hulaj Street Wear\n+ voucher - 200 zł na F
 air Play Dance Camp\n+ nagrody rzeczowe od sponsorów\n\n▶️ POPPING 1v
 s1:\n1 MIEJSCE - 700 zł\n+ voucher - 300 zł do 2p\n+ voucher - classy na
  @INFINITE POPPING WORLD 2020\n* o ilości class zwycięzca zostanie poinf
 ormowany przez organizatorów.\n+ voucher - do sklepu Hulaj Street Wear\n+
  voucher - 300 zł na Fair Play Dance Camp\n+ nagrody rzeczowe od sponsor
 ów\n2 MIEJSCE -\n+ voucher - do sklepu Hulaj Street Wear\n+ voucher - 200
  zł na Fair Play Dance Camp\n+ nagrody rzeczowe od sponsorów\n\n■  PRO
 GRAM:\n- ELIMINACJE \n- WALKI TOP8/TOP4/ FINAŁ \n- SPECIAL SHOWCASE \n- A
 FTER PARTY \n\n■ OPŁATA STARTOWA:\n1 kategoria - 20 zł \n2 kategorie -
  30 zł \n* Na miejscu zawodów wzrost pieniążków o 10 zł.  \nW przypa
 dku jednej kategorii = 30 zł\, natomiast dwóch kategorii = 40 zł. \n* W
  przypadku przekroczenia ilość osób startujących będzie stworzona lis
 ta rezerwowa ( brak możliwości zapisania się na miejscu eventu) \n\n■
  OPŁATA DLA WIDZA:\nWejście na cały dzień wydarzenia - 5 zł \n\n■  
 REJESTRACJA ONLINE:\nWypełniając formularz zgłoszeniowy: \nhttps://docs
 .google.com/forms/d/1QioNj6a6Nnj-6Fi-Qcg8kHLmMCqJAP-_w0BwFRDtL8E/edit#resp
 onses\n\n■  KONTAKT:\nsouthvibez2020@gmail.com\nDamian Sasin\nSlim Pop\n
 \nZAPRASZAMY !!!
ATTACH;FMTTYPE=image/jpeg:https://night4u.pl/wp-content/uploads/2020/03/14
 1311_image_88218142_2481998008571124_4502639049344811008_n.jpg
CATEGORIES:małopolskie
LOCATION:B4 Bracka 4\, ul.Bracka 4\, Kraków\, 31-005\, Poland
GEO:50.06042;19.93637
X-APPLE-STRUCTURED-LOCATION;VALUE=URI;X-ADDRESS=ul.Bracka 4\, Kraków\, 31-
 005\, Poland;X-APPLE-RADIUS=100;X-TITLE=B4 Bracka 4:geo:50.06042,19.93637
END:VEVENT
BEGIN:VTIMEZONE
TZID:Europe/Warsaw
X-LIC-LOCATION:Europe/Warsaw
BEGIN:DAYLIGHT
DTSTART:20200329T030000
TZOFFSETFROM:+0100
TZOFFSETTO:+0200
TZNAME:CEST
END:DAYLIGHT
END:VTIMEZONE
END:VCALENDAR