BEGIN:VCALENDAR
VERSION:2.0
PRODID:-//wp-events-plugin.com//7.2.3.1//EN
TZID:Europe/Warsaw
X-WR-TIMEZONE:Europe/Warsaw
BEGIN:VEVENT
UID:48995@night4u.pl
DTSTART;TZID=Europe/Warsaw:20200305T183000
DTEND;TZID=Europe/Warsaw:20200305T210000
DTSTAMP:20200331T141441Z
URL:https://night4u.pl/wydarzenia/speed-dating-us-awf/
SUMMARY:Speed Dating UŚ &amp\; AWF
DESCRIPTION:Spędziłeś tegoroczne walentynki w samotności? Przed Tobą w
 ydarzenie\, dzięki któremu już zawsze możesz mieć wyjątkową osobę 
 u boku! ❤️\n\nJuż 5 marca Samorząd Studencki Uniwersytetu Śląskieg
 o i Uczelniana Rada Samorządu Studenckiego AWF Katowice zapraszają na Sp
 eed Dating w Klubie SPIŻ Katowice! 💘😻\n\nNie może Was zabraknąć\
 , bo po wydarzeniu o 21:00 startuje wyjątkowa\, półmetkowa impreza UŚa
  i AWFu!!!! 🙉🙊🙈\n\nZgłoście się i poznajcie inne wspaniałe os
 oby! \nFormularz zgłoszeniowy: https://forms.gle/YFsCpcR1qU44x1gV8\n\nJak
  to będzie wyglądać? 🤔\nPanie siedzą przy stolikach\, a Panowie pod
 chodzą i macie troszkę czasu na rozmowę. Na sygnał prowadzącego Panow
 ie zmieniają stoliki. \nNa zakończenie karty uczestników\, na których 
 Panie i Panowie zaznaczą swoje typy są zbierane przez organizatorów. Je
 śli dwie osoby zaznaczą nawzajem swoje imiona\, otrzymają kontakt do dr
 ugiej osoby.\n\nBędzie się działo! &lt\;3
ATTACH;FMTTYPE=image/jpeg:https://night4u.pl/wp-content/uploads/2020/02/16
 7923_image_87980523_10156995449382960_3318554803931447296_o.jpg
CATEGORIES:śląskie
LOCATION:Klub Spiż Katowice\, Opolska 22\, Katowice\, 40-084\, Poland
GEO:50.262358;19.011315
X-APPLE-STRUCTURED-LOCATION;VALUE=URI;X-ADDRESS=Opolska 22\, Katowice\, 40-
 084\, Poland;X-APPLE-RADIUS=100;X-TITLE=Klub Spiż Katowice:geo:50.262358,
 19.011315
END:VEVENT
BEGIN:VTIMEZONE
TZID:Europe/Warsaw
X-LIC-LOCATION:Europe/Warsaw
BEGIN:STANDARD
DTSTART:20191027T020000
TZOFFSETFROM:+0200
TZOFFSETTO:+0100
TZNAME:CET
END:STANDARD
END:VTIMEZONE
END:VCALENDAR