BEGIN:VCALENDAR
VERSION:2.0
PRODID:-//wp-events-plugin.com//7.2.3.1//EN
TZID:Europe/Warsaw
X-WR-TIMEZONE:Europe/Warsaw
BEGIN:VEVENT
UID:5699@night4u.pl
DTSTART;TZID=Europe/Warsaw:20190214T220000
DTEND;TZID=Europe/Warsaw:20190215T040000
DTSTAMP:20190131T143256Z
URL:https://night4u.pl/wydarzenia/speed-dating-x-leeway/
SUMMARY:Speed dating x Leeway
DESCRIPTION:Nie macie drugiej połówki z która spędzicie walentynki? A m
 oże macie zasadę\, w walentynki wale drinki? Nic prostszego\, na #jagiel
 lonska?? wszystko da się połączyć! \n\nBarmani zadbają\, aby zaspokoi
 ć wasze niekonwencjonalne alkoholowe podniebienie\, Leeway. zagra kawałk
 i\, do których nie tylko będzie można się przytulić\, a my pomożemy 
 Wam z druga połówka! ? \n\nOdbierzcie na selekcji połówkę numerowaneg
 o serduszka\, znajdźcie pasująca część i razem odbierzcie czerwone sh
 oty na barze\, na dobry początek! ?\n\nKto wie\, co wydarzy się późnie
 j ?❤️ #dreamscometrue\n\nWstęp z lista fb oraz kartami klubowymi darm
 owy.\n\nRezerwacje +48 516 390 981\, +48 511 935 660 lub biuro@dreamsmusic
 club.pl\n_____________________\nKlub zastrzega sobie prawo do selekcji go
 ści i może odmówić wstępu bez podania przyczyny. Wstęp tylko dla os
 ób pełnoletnich.\nwww.dreamsmusicclub.pl
ATTACH;FMTTYPE=image/jpeg:https://night4u.pl/wp-content/uploads/2019/01/17
 351_image_50418424_2137447769634854_3080113891993190400_o.jpg
CATEGORIES:małopolskie
LOCATION:Dreams Music Club\, Jagiellońska 5\, Kraków\, 31-010\, Poland
GEO:50.06276;19.93504
X-APPLE-STRUCTURED-LOCATION;VALUE=URI;X-ADDRESS=Jagiellońska 5\, Kraków\,
  31-010\, Poland;X-APPLE-RADIUS=100;X-TITLE=Dreams Music Club:geo:50.06276
 ,19.93504
END:VEVENT
BEGIN:VTIMEZONE
TZID:Europe/Warsaw
X-LIC-LOCATION:Europe/Warsaw
BEGIN:STANDARD
DTSTART:20181028T020000
TZOFFSETFROM:+0200
TZOFFSETTO:+0100
TZNAME:CET
END:STANDARD
END:VTIMEZONE
END:VCALENDAR