BEGIN:VCALENDAR
VERSION:2.0
PRODID:-//wp-events-plugin.com//7.2.3.1//EN
TZID:Europe/Warsaw
X-WR-TIMEZONE:Europe/Warsaw
BEGIN:VEVENT
UID:40634@night4u.pl
DTSTART;TZID=Europe/Warsaw:20200307T200000
DTEND;TZID=Europe/Warsaw:20200307T235500
DTSTAMP:20200331T140706Z
URL:https://night4u.pl/wydarzenia/spiralaroom-koncert-kirszenbaum/
SUMMARY:Kirszenbaum_spiralaROOM
DESCRIPTION:Serdecznie zapraszamy na magiczny występ duetu Kirszenbaum. Ko
 ncert odbywa się w ramach cyklu SpiralaROOM (ze sceną en ronde)\, na kt
 órej zagrali już: Bass Astral x Igo\, Wczasy\, BOWNIK\, Erith czy RAU. \
 n\nKirszenbaum jest jak Wyspiański na mefedronie. Krakowski duet ożywia 
 postfolkowe zgliszcza\, wyznacza im świeże kierunki i wrzuca prosto na l
 oopery\, ze słowiańskim przytupem zderzając Toma Waitsa i Junip. Zola k
 rzyczy na klezmerów\, Henry Miller tańczy z Muminkami\, a efektem jest m
 elancholijna intertekstualna karuzela. Kierkegaard pisał o nich: „To ch
 yba jazz”. Nic bardziej mylnego.\n\nArtyści wielokrotnie pojawiali się
  na antenach Radia Kraków oraz Dwójki\, Czwórki i Trójki Polskiego Rad
 ia\, wzięli udział w Festiwalu Folkowisko\, Letniej Akademii Filmowej i 
 Green Zoo Festival\, zwyciężyli w konkursach Festiwalu Synestezje 2017 i
  Dragon Folk Festu 2018\, zostali laureatami Festiwalu Muzyki Folkowej Pol
 skiego Radia „Nowa Tradycja” 2018 oraz Festiwalu FAMA 2018\, nagrali k
 lipy z Vintage Sessions\, Backyard Music i SoFar Sounds Kraków\, wystąpi
 li na scenie Studia Koncertowego Polskiego Radia im. W. Lutosławskiego\, 
 otwierali koncerty takich artystów jak Fisz Emade Tworzywo\, Fifidroki\, 
 Wadada\, Żywiołak\, kanadyjski projekt Yamantaka//Sonic Titan czy Kapela
  Ze Wsi Warszawa oraz zagrali kilkadziesiąt koncertów w całej Polsce\, 
 w Czechach\, w Niemczech i na Słowacji.\n\nW warstwie muzycznej\, mocno e
 klektyczny styl projektu oparty jest na bliskiej współpracy gitar\, post
 -rockowych skrzypiec i nagrywanych na żywo loopów. Wszystko to składa s
 ię na współczesną i bardzo specyficzną interpretację słowiańskich\
 , klezmerskich i anglosaskich folków\, podlaną dynamicznym\, szepcząco-
 krzyczącym duetem wokalnym. Wprawne ucho wychwyci wpływy takich artystó
 w jak Fink\, Andrew Bird\, Warren Ellis\, późny Tom Waits czy wczesny Ni
 ck Cave\, wprawne oko dostrzeże zabawę mniej lub bardziej klasycznymi po
 zycjami kina niemego\, wczesnego kina SF i innych\, a wprawny czytelnik do
 patrzy się intertekstualnej żonglerki nawiązaniami literackimi w warstw
 ie tekstualnej\, od Alberta Camusa i Franza Kafki\, przez Tove Jansson i G
 ombrowicza\, po samego Terry’ego Pratchetta.\n\nKirszenbaum to wspólne 
 przedsięwzięcie Kacpra Szpyrki (filozofa\, księgarza i skrzypka\, któr
 y nagrywał m.in. z HellHaven) oraz Jakuba Wiśniewskiego (anglisty\, muzy
 ka i techwritera)\, których uprzednia współpraca w zespole Pora Wiatru 
 zaowocowała ponad 150 koncertami\, występem w finale programu Must Be th
 e Music\, główną nagrodą polskiej edycji Festiwalu Emergenza\, serią 
 crowd-fundingowych koncertów w tramwajach czy występem na niemieckim Tau
 bertal Festival.\n\nObaj artyści prowadzą również działalność liter
 acką. Kacper Szpyrka przygotowuje polskie przekłady poezji i tekstów fi
 lozoficznych z języka angielskiego i hiszpańskiego (efekty jego pracy uk
 azywały się w magazynach „Wizje” i „Inter”)\, a polsko- i angloj
 ęzyczna proza Jakuba Wiśniewskiego publikowana była przez „Kontent”
 \, „Wizje”\, „Helikopter”\, „Zupełnie Inny Świat”\, „Inter
 ” czy „Ha!art”.\n\nW marcu 2019 roku\, nakładem Karrot Kommando uka
 zał się debiutancki album duetu (Stypa komedianta)\, nagrany w studiu S4
  Polskiego Radia\, we współpracy z Radiowym Centrum Kultury Ludowej: htt
 p://karrot.pl/stypakomedianta\n\n"Wasza muzyka stwarza niesamowity\, niepo
 kojący nastrój. (…) Udało wam się wykreować coś odrębnego."\nMARI
 USZ OWCZAREK (TRÓJKA POLSKIE RADIO)\n\n[i]"Nikt w tym kraju\, a może naw
 et na całym świecie\, tak nie gra. (...) Wspaniała opowieść o niezado
 woleniu ze świata."\nAGNIESZKA BARAŃSKA (RADIO KRAKÓW)\n\n[i]"(...) pon
 ure oblicze folku - czasami grawitującego ku post-rockowi\, kiedy indziej
  ku niemal radiowej przebojowości."\nSOUNDRIVE\n\n"Staś Szczurołap to a
 rcydzieło (...) poczułem się jak na starodawnym rynku w godzinach szczy
 tu."\nKVLT\n\n"Cała forma mi się bardzo podoba\, ona jest taka kozacka\,
  ona jest fajna."\nWOJCIECH WAGLEWSKI\n\n"Trochę jak szaleńcza zabawa\, 
 a może raczej danse macabre upojonych alkoholem żałobników\, przechodz
 i przez różne stadia intensywności i refleksji\, dotyka groteski i absu
 rdu (...)"\nGAZETA MAGNETOFONOWA\n\n\nSUPPORT\nMARTIN KOSIARCZYK\n\nwww.fa
 cebook.com/w.drodze.na.szczyt\nwww.facebook.com/MinimumMasy\n\nUrodzony 7 
 lipca 1991 r w niedziele (wierzy\, że data jego urodzin przynosi mu szcz
 ęście). Zajawkowicz\, wizjoner\, uliczny artysta.\nOd 2018 roku Martin r
 zucił się na głęboką wodę chcąc udowodnić sobie\, że można żyć
  wedle swoich reguł nawet jeśli wskazówka kariery jest ustawiona na eta
 pie "czarna dupa" wiecznie głodny muzyki i występów na żywo.\n\nPrzez 
 lata swojej twórczości współpracował z zespołami takimi jak:\nGotta 
 Sugar?\nAglet\nVelveteve\nMinimum Masy\nMINDTRAPS\nJako support:\nIRA\nOdd
 ział Zamknięty\nPerfect\nGrubson\nCoals\nClock Machine\nSonbird\nTABU\n\
 nProwadząc bloga „W drodze na szczyt” pokazuje\, że artystą jest si
 ę bez względu na zyskaną popularność\, ale na miłość włożoną w 
 tworzenie. Muzyka dla Martina jest jedną z rzeczy nieświadomych dlatego\
 , że gra na gitarze nie była świadomą decyzją\, tylko potrzebą\, kt
 óra rodziła się w nim gdy w muzyce zaczął dostrzegać więcej. Wierzy
 \, że dzięki występom ulicznym ma realny wpływ na ludzi\, którzy waha
 ją się w swoich życiowych wyborach\, dając im zapał i inspirację. Je
 go styl  przepełniony jest brudnym funkiem oraz melodycznymi wstawkami. N
 ie stroni również od psychodelicznych brzmień ociekających fest molem.
  Nie sposób pomylić jego gry na gitarze z kimś innym. Od samego począt
 ku twierdził\, że jego najmocniejszą stroną jest "feeling". Podróżuj
 e po Polsce i Europie dając sobie i innym muzę przepełnioną wewnętrzn
 a energią.\n\n\nBilety do nabycia w kasie Spirali / Mrowiska oraz przez a
 plikację Going https://goingapp.pl/evt/2196058/kirszenbaum-koncert-w-spir
 alaroom
ATTACH;FMTTYPE=image/jpeg:https://night4u.pl/wp-content/uploads/2020/02/12
 3287_image_87939843_2793208687412631_5740940780059492352_o.jpg
CATEGORIES:śląskie
LOCATION:Klub Studencki Spirala\, Pszczyńska 85\, Gliwice\, 44-100\, Polan
 d
GEO:50.28534;18.67771
X-APPLE-STRUCTURED-LOCATION;VALUE=URI;X-ADDRESS=Pszczyńska 85\, Gliwice\, 
 44-100\, Poland;X-APPLE-RADIUS=100;X-TITLE=Klub Studencki Spirala:geo:50.2
 8534,18.67771
END:VEVENT
BEGIN:VTIMEZONE
TZID:Europe/Warsaw
X-LIC-LOCATION:Europe/Warsaw
BEGIN:STANDARD
DTSTART:20191027T020000
TZOFFSETFROM:+0200
TZOFFSETTO:+0100
TZNAME:CET
END:STANDARD
END:VTIMEZONE
END:VCALENDAR