BEGIN:VCALENDAR
VERSION:2.0
PRODID:-//wp-events-plugin.com//7.2.3.1//EN
TZID:Europe/Warsaw
X-WR-TIMEZONE:Europe/Warsaw
BEGIN:VEVENT
UID:34656@night4u.pl
DTSTART;TZID=Europe/Warsaw:20200307T200000
DTEND;TZID=Europe/Warsaw:20200307T230000
DTSTAMP:20200331T140554Z
URL:https://night4u.pl/wydarzenia/spiritual-front-plays-the-smiths-guest-t
 hem-pulp-criminals/
SUMMARY:Spiritual Front plays The Smiths + guest: Them Pulp Criminals
DESCRIPTION:☩ Spiritual Front [Rzym\, Włochy] [Nihilistic Suicide Pop/ N
 eofolk/ Dark Folk] \n\nhttps://www.facebook.com/spiritualfrontofficialpage
 /\n\nPrawdziwa uczta muzyczna dla miłośników balladowego grania z pogra
 nicza muzyki Ennio Morricone i Nicka Cave’a\, któremu nie brakuje jedna
 k rock’n’rollowego ognia i żarliwości płynącej z serca przepełnio
 nego pasją. Włoski zespół Spiritual Front jest neofolkową formacją m
 uzyczną powstałą w Rzymie. Jej członkowie określają swój styl jako 
 „nihilistyczny samobójczy pop” (ang. „nihilist suicide pop”).\n\n
 Tym razem  Simone i ekipa zaprezentują set coverów The Smiths\, Morissey
 'a oraz klasyczne utwory Spiritual Front\n\n☩ Them Pulp Criminals \n\nht
 tps://thempulpcriminals.bandcamp.com/\nhttps://www.facebook.com/thempulpcr
 iminals/\n\nDżentelmeńska umowa pomiędzy wokalistą i tekściarzem Tymo
 teuszem Jędrzejczykiem\, a muzykiem i autorem piosenek Igorem Herzykiem\,
  czerpiąca inspirację z mrocznych\, miejskich aspektów współczesnego 
 folkloru\, stylu życia samotników i ogólnego buntu wobec czasów i obyc
 zajów.\n\n+++\n\nBilety w cenie 50/60zł dostępne w serwisie GoingApp or
 az w salonach Empik.
ATTACH;FMTTYPE=image/jpeg:https://night4u.pl/wp-content/uploads/2019/11/90
 063_image_68392829_2920449507997406_356999833422135296_o.jpg
CATEGORIES:małopolskie
LOCATION:Klub Alchemia\, ul. Estery 5 (róg Estery i Placu Nowego) 31-056 K
 raków\, Kraków\, 31-056\, Poland
GEO:50.052061;19.944912
X-APPLE-STRUCTURED-LOCATION;VALUE=URI;X-ADDRESS=ul. Estery 5 (róg Estery i
  Placu Nowego) 31-056 Kraków\, Kraków\, 31-056\, Poland;X-APPLE-RADIUS=1
 00;X-TITLE=Klub Alchemia:geo:50.052061,19.944912
END:VEVENT
BEGIN:VTIMEZONE
TZID:Europe/Warsaw
X-LIC-LOCATION:Europe/Warsaw
BEGIN:STANDARD
DTSTART:20191027T020000
TZOFFSETFROM:+0200
TZOFFSETTO:+0100
TZNAME:CET
END:STANDARD
END:VTIMEZONE
END:VCALENDAR