BEGIN:VCALENDAR
VERSION:2.0
PRODID:-//wp-events-plugin.com//7.2.3.1//EN
TZID:Europe/Warsaw
X-WR-TIMEZONE:Europe/Warsaw
BEGIN:VEVENT
UID:29708@night4u.pl
DTSTART;TZID=Europe/Warsaw:20191015T170000
DTEND;TZID=Europe/Warsaw:20191015T210000
DTSTAMP:20191014T025333Z
URL:https://night4u.pl/wydarzenia/spotkania-60-3/
SUMMARY:Spotkania 60+
DESCRIPTION:Klub B4 Bracka razem z Fundacją HITA zapraszam na jedyne w Kra
 kowie spotkania 60+ \n\nSpotkania odbywają się cyklicznie\, w każdy wto
 rek od 17:00
ATTACH;FMTTYPE=image/jpeg:https://night4u.pl/wp-content/uploads/2019/10/68
 521_image_71103400_2078812548885864_6137295239901085696_o-2.jpg
CATEGORIES:małopolskie
LOCATION:B4 Bracka 4\, ul.Bracka 4\, Kraków\, 31-005\, Poland
GEO:50.06042;19.93637
X-APPLE-STRUCTURED-LOCATION;VALUE=URI;X-ADDRESS=ul.Bracka 4\, Kraków\, 31-
 005\, Poland;X-APPLE-RADIUS=100;X-TITLE=B4 Bracka 4:geo:50.06042,19.93637
END:VEVENT
BEGIN:VTIMEZONE
TZID:Europe/Warsaw
X-LIC-LOCATION:Europe/Warsaw
BEGIN:DAYLIGHT
DTSTART:20190331T030000
TZOFFSETFROM:+0100
TZOFFSETTO:+0200
TZNAME:CEST
END:DAYLIGHT
END:VTIMEZONE
END:VCALENDAR