BEGIN:VCALENDAR
VERSION:2.0
PRODID:-//wp-events-plugin.com//7.2.3.1//EN
TZID:Europe/Warsaw
X-WR-TIMEZONE:Europe/Warsaw
BEGIN:VEVENT
UID:28740@night4u.pl
DTSTART;TZID=Europe/Warsaw:20191019T200000
DTEND;TZID=Europe/Warsaw:20191019T200000
DTSTAMP:20191018T094641Z
URL:https://night4u.pl/wydarzenia/spox-night-45-blacha/
SUMMARY:SPOX NIGHT 45 - Blacha - Gdańsk
DESCRIPTION:SPOX NIGHT 45 i koncert Blachy w Gdańsku !!! \n\nBilety dostę
 pne stacjonarnie:\n👉 CHROM SKATESHOP \n\nBilety dostępne online:\n👉
  https://ticketos.pl/event/2430/blacha-spox-night-45\n\nWięcej info wkró
 tce !!! \n\nOrganizator: www.spoxshop.com
ATTACH;FMTTYPE=image/jpeg:https://night4u.pl/wp-content/uploads/2019/10/66
 479_image_72698025_2112000982436649_6556511621680726016_n.jpg
CATEGORIES:pomorskie
LOCATION:Klub Medyk\, ul. Dębowa 7\, Gdansk\, 80-204\, Poland
GEO:54.361387;18.629299
X-APPLE-STRUCTURED-LOCATION;VALUE=URI;X-ADDRESS=ul. Dębowa 7\, Gdansk\, 80
 -204\, Poland;X-APPLE-RADIUS=100;X-TITLE=Klub Medyk:geo:54.361387,18.62929
 9
END:VEVENT
BEGIN:VTIMEZONE
TZID:Europe/Warsaw
X-LIC-LOCATION:Europe/Warsaw
BEGIN:DAYLIGHT
DTSTART:20190331T030000
TZOFFSETFROM:+0100
TZOFFSETTO:+0200
TZNAME:CEST
END:DAYLIGHT
END:VTIMEZONE
END:VCALENDAR