BEGIN:VCALENDAR
VERSION:2.0
PRODID:-//wp-events-plugin.com//7.2.3.1//EN
TZID:Europe/Warsaw
X-WR-TIMEZONE:Europe/Warsaw
BEGIN:VEVENT
UID:49570@night4u.pl
DTSTART;TZID=Europe/Warsaw:20200328T210000
DTEND;TZID=Europe/Warsaw:20200329T043000
DTSTAMP:20200309T161257Z
URL:https://night4u.pl/wydarzenia/spring-breakout-nowe-sonar-soul-rad74nic
 e-uhmt/
SUMMARY:Spring Breakout: .Nowe\, Sonar Soul\, Rad74Nice\, UHMT
DESCRIPTION:Drugi dzień festiwalu Spring Breakout w A'Propos\, jest poświ
 ęcony muzyce elektronicznej 🎶 🌚\n\n🎤 🎹Koncert:\nNOWE MUSIC (
 Świdnica) to duet\, w którego skład wchodzi Natalia Widuto - wokalistka
  i autorka tekstów\, i Mateusz Chochołek - producent muzyczny i autor te
 kstów. Poznali się 10 lat temu i współtworzyli zespół funkowy. Po d
 ługiej przerwie spotkali się ponownie na początku 2018 roku\, w celu na
 grania jednego numeru do projektu elektronicznego Mateusza. Stało się je
 dnak inaczej - nie wiadomo kiedy stworzyli razem cały album w stylistyce 
 synth retro electronic\, który swoją premierę miał we wrześniu 2019. 
  Wydała ich wytwórnia Dystrykt\n\n🎶📢 Djset:\nSonar Soul (Warszawa)
  a właściwie Łukasz Stachurko w środowisku obecny jest od niemal dwóc
 h dekad\, występując zarówno solowo\, jak i w zespołach (Rysy\, Sonar)
 . W tym czasie wykrystalizował swój charakterystyczny styl\, w którym n
 owoczesne beaty spotykają się z hip-hopowym sznytem i samplingiem. Muzyk
  regularnie współpracuje z cenionymi rodzimymi wokalistkami: Justyną Ś
 więs\, Pauliną Przybysz czy Rosalie. W 2019 ukazał się jego długograj
 ący debiut pod szyldem Sonar Soul\, na którym artysta połączył fascyn
 ację brytyjską elektroniką lat 90. i współczesnym klubowym brzmieniem
 . Wśród gości na płycie pojawili się m.in. Igor Walaszek z duetu Bass
  Astral &amp\; Igo\, Baasch\, Michał Sobierajski czy wspominana już Rosa
 lie.. Odzwierciedlenie stylu produkcji Łukasza można odnaleźć w jego s
 etach dj’ski\, w których nie ucieka od muzyki house\, 2 step\, garage i
  pochodnych brzmień.\n\nRad74Nice reprezentant PRODUKT74 znany także z w
 ałbrzyskich rapowych bibek. Współorganizator m.in. Underground Music Ev
 ent\, Nocnej Szychty\, Kopalni Hip-Hopu\n Rad74Nice supportował jak i gra
 ł aftery przy koncertach takich artystów jak: PRO8L3M\, TEDE\, PALUCH\, 
 WŁODI\, POKAHONTAZ\, PEJA\, PEZET/MAŁOLAT\, QUEBONAFIDE\, DWA SŁAWY\, S
 ARIUS\, KĘKĘ\, O.S.T.R czy holenderską grupą DOPE D.O.D. Wspomagał na
  koncertach także m.in. AFU-RĘ\, SŁONIA i MIXERA\, MIUOSHA. Grał wspó
 lne imprezy m.in. z QUMAKIEM\, SLIME\, DA VOSK DOCTA\, SPISKIEM JEDNEGO\, 
 NEEN. W setach nie lubi barier\, za to uwielbia mieszać rap z trapem\, dn
 b czy muzyką elektroniczną.\n\nUnderground HOUSE MUSIC Therapy to wałbr
 zyski kolektyw (Noiseman\, MRJ\, Luc\, Ques)\, który od lat prężnie dzi
 ała wspólnie jak i solowo. 🎶🎶🎶\n\n🕘 Start: 21:00\n🎟 Bilet
  w przedsprzedaży 20 zł\n🎟 Bilet w dniu wydarzenia 30 zł\n\nRezerwac
 ja biletów/stolików: \n☎️ pod nr 74 8404049 oraz 500296755
ATTACH;FMTTYPE=image/jpeg:https://night4u.pl/wp-content/uploads/2020/03/17
 2548_image_87945700_3121104204580516_4247266255339257856_o.jpg
CATEGORIES:dolnośląskie
LOCATION:A PROPOS\, ul.Wieniawskiego 82\, Wałbrzych\, 58-309\, Poland
GEO:50.817263;16.276605
X-APPLE-STRUCTURED-LOCATION;VALUE=URI;X-ADDRESS=ul.Wieniawskiego 82\, Wałb
 rzych\, 58-309\, Poland;X-APPLE-RADIUS=100;X-TITLE=A PROPOS:geo:50.817263,
 16.276605
END:VEVENT
BEGIN:VTIMEZONE
TZID:Europe/Warsaw
X-LIC-LOCATION:Europe/Warsaw
BEGIN:STANDARD
DTSTART:20191027T020000
TZOFFSETFROM:+0200
TZOFFSETTO:+0100
TZNAME:CET
END:STANDARD
BEGIN:DAYLIGHT
DTSTART:20200329T030000
TZOFFSETFROM:+0100
TZOFFSETTO:+0200
TZNAME:CEST
END:DAYLIGHT
END:VTIMEZONE
END:VCALENDAR