BEGIN:VCALENDAR
VERSION:2.0
PRODID:-//wp-events-plugin.com//7.2.3.1//EN
TZID:Europe/Warsaw
X-WR-TIMEZONE:Europe/Warsaw
BEGIN:VEVENT
UID:7164@night4u.pl
DTSTART;TZID=Europe/Warsaw:20190213T190000
DTEND;TZID=Europe/Warsaw:20190213T220000
DTSTAMP:20190213T180710Z
URL:https://night4u.pl/wydarzenia/sroda-2-za-1-cubalibre-happy-hours-1900-
 2200-2/
SUMMARY:#ŚRODA 2 za 1 | #cubalibre | #HAPPY HOURS | 19:00-22:00
DESCRIPTION:?ŚRODOWA PROMOCJA HAPPY HOURS?\n\nTeraz startujemy z promką 2
  za 1 ??? czyli ??\n\nWeź dużego drinka z karty a DRUGIEGO tego samego d
 ostajesz GRATIS ???????????\n\nWrzuć na fejsa zdjęcie że jesteś u Nas\
 , oznacz swoich znajomych i zamelduj sie w cuba libre i ciesz się promocj
 ą 2 za 1 w godzinach 19-22 ?????\n\nRezerwacje :\n\n794 345 777 ???????\n
 \nMessenger ????????\n\n\n\nOferta ważna dla osób wcześniej rezerwując
 ych miejsce\, dotyczy dużych drinków tylko numerowanych od 1-44
ATTACH;FMTTYPE=image/jpeg:https://night4u.pl/wp-content/uploads/2019/02/20
 644_image_51777758_329593770993921_2419678785226932224_n.jpg
CATEGORIES:pomorskie
LOCATION:Cuba Libre Club\, Żwirki i Wigury 8/2\, Zaspa\, 80-463\, Poland
GEO:54.390404;18.610196
X-APPLE-STRUCTURED-LOCATION;VALUE=URI;X-ADDRESS=Żwirki i Wigury 8/2\, Zasp
 a\, 80-463\, Poland;X-APPLE-RADIUS=100;X-TITLE=Cuba Libre Club:geo:54.3904
 04,18.610196
END:VEVENT
BEGIN:VTIMEZONE
TZID:Europe/Warsaw
X-LIC-LOCATION:Europe/Warsaw
BEGIN:STANDARD
DTSTART:20181028T020000
TZOFFSETFROM:+0200
TZOFFSETTO:+0100
TZNAME:CET
END:STANDARD
END:VTIMEZONE
END:VCALENDAR