BEGIN:VCALENDAR
VERSION:2.0
PRODID:-//wp-events-plugin.com//7.2.3.1//EN
TZID:Europe/Warsaw
X-WR-TIMEZONE:Europe/Warsaw
BEGIN:VEVENT
UID:27840@night4u.pl
DTSTART;TZID=Europe/Warsaw:20190918T220000
DTEND;TZID=Europe/Warsaw:20190919T060000
DTSTAMP:20190916T211418Z
URL:https://night4u.pl/wydarzenia/sroda-dzien-loda-xdemon-zielona-gora-4/
SUMMARY:Środa dzień loda // Xdemon Zielona Góra
DESCRIPTION:Ostatnia edycja naszej kultowej wakacyjnej impreza ?????Wraz z 
 firmą Nordis ostudzimy temperturę waszych emocji i nie tylko ? Przyjdź 
 i przekonaj się sam ❤️\n✖️WSTĘP FREE DLA WSZYSTKICH✌?\n✖️P
 anie do 24:00 piją za FREE\n✖️Lody od firmy NORDIS\n\nNie możesz teg
 o przegapić ! Dołącz do wydarzenia już dziś!\n\n☎ Rezerwacje ONLINE
  http://bit.ly/1RtF806\nINFO: 797 407 885 ☎\n\nNie zapomnij o kuszących
  promocjach w klubie X-DEMON:\n\nPROMOCJA URODZINOWA\nPROMOCJA NA WIECZÓR
  PANIEŃSKI \n\nOBSERWUJ NAS:\nwww.xdemon.pl\nwww.facebook.com/XDemon\nwww
 .instagram.com/xdemonzielonagora\nsnapchat: xdemonzg
ATTACH;FMTTYPE=image/jpeg:https://night4u.pl/wp-content/uploads/2019/09/64
 716_image_70278422_3470477186299374_608421884580593664_o.jpg
CATEGORIES:lubuskie
LOCATION:X-Demon - Zielona Góra\, \, 
X-APPLE-STRUCTURED-LOCATION;VALUE=URI;X-ADDRESS=\, ;X-APPLE-RADIUS=100;X-TI
 TLE=X-Demon - Zielona Góra:geo:0,0
END:VEVENT
BEGIN:VTIMEZONE
TZID:Europe/Warsaw
X-LIC-LOCATION:Europe/Warsaw
BEGIN:DAYLIGHT
DTSTART:20190331T030000
TZOFFSETFROM:+0100
TZOFFSETTO:+0200
TZNAME:CEST
END:DAYLIGHT
END:VTIMEZONE
END:VCALENDAR