BEGIN:VCALENDAR
VERSION:2.0
PRODID:-//wp-events-plugin.com//7.2.3.1//EN
TZID:Europe/Warsaw
X-WR-TIMEZONE:Europe/Warsaw
BEGIN:VEVENT
UID:31283@night4u.pl
DTSTART;TZID=Europe/Warsaw:20191009T200000
DTEND;TZID=Europe/Warsaw:20191010T010000
DTSTAMP:20191009T200806Z
URL:https://night4u.pl/wydarzenia/sroda-jazz-jam-session-w-liverpool-u-3/
SUMMARY:ŚRODA !!! Jazz Jam Session !!! w LIVERPOOL-u !
DESCRIPTION:ŚRODA !!!\nJAM SESSION - JAZZ w LIVERPOOL-u !!!\nWstęp Free !
 !!\nGOŚCIE SPECJALNI: ZBIGNIEW LEWANDOWSKI\,\nJULIUSZ MAZUR\, WŁADYSŁAW
  KWAŚNICKI\, \nJERZY KACZMAREK\, JAKUB OLEJNIK\, ANDRZEJ WALUS\,\nJANUSZ 
 KONEFAŁ\, ROMAN SONNENBERG\, \nTOMASZ WILCZYŃSKI\, JAN MŁYNARCZYK\, \nM
 AREK MARKOWSKI\, ROBERT KAMALSKI\, \nTADEUSZ NESTOROWICZ\, WOJTEK JAWORSKI
  .......\nMuzyka
ATTACH;FMTTYPE=image/jpeg:https://night4u.pl/wp-content/uploads/2019/10/72
 715_image_72627530_2749726488393200_5001186101306589184_n.jpg
CATEGORIES:dolnośląskie
LOCATION:Klub Muzyczny Liverpool\, Świdnicka 37\, Wroclaw\, 50-029\, Polan
 d
GEO:51.10401;17.03035
X-APPLE-STRUCTURED-LOCATION;VALUE=URI;X-ADDRESS=Świdnicka 37\, Wroclaw\, 5
 0-029\, Poland;X-APPLE-RADIUS=100;X-TITLE=Klub Muzyczny Liverpool:geo:51.1
 0401,17.03035
END:VEVENT
BEGIN:VTIMEZONE
TZID:Europe/Warsaw
X-LIC-LOCATION:Europe/Warsaw
BEGIN:DAYLIGHT
DTSTART:20190331T030000
TZOFFSETFROM:+0100
TZOFFSETTO:+0200
TZNAME:CEST
END:DAYLIGHT
END:VTIMEZONE
END:VCALENDAR