BEGIN:VCALENDAR
VERSION:2.0
PRODID:-//wp-events-plugin.com//7.2.3.1//EN
TZID:Europe/Warsaw
X-WR-TIMEZONE:Europe/Warsaw
BEGIN:VEVENT
UID:21932@night4u.pl
DTSTART;TZID=Europe/Warsaw:20190710T190000
DTEND;TZID=Europe/Warsaw:20190710T210000
DTSTAMP:20190709T224815Z
URL:https://night4u.pl/wydarzenia/sroda-z-muzyka-na-zywo-loop-trigger/
SUMMARY:Środa z muzyką na żywo: Loop Trigger
DESCRIPTION:Data: 10.07 (środa)\nStart: godz 19:00\nMiejsce: Na Tarasie / 
 Galeria MM\nPoznań\; Święty Marcin 24\nWstęp jest darmowy !\n\nChyba m
 ożna śmiało powiedzieć\, że był to jeden z najlepszych występów Na
  Tarasie w poprzednim sezonie\, dlatego Loop Trigger wystąpi dla Was pono
 wnie ?!\n\nArtysta to absolwent Wydziału Instrumentów Smyczkowych\, Harf
 y\, Gitary i Lutnictwa Akademii im. I.J. Paderewskiego w Poznaniu. W swoje
 j karierze wiolonczelisty współpracował m.in. Zbigniewem Wodeckim\, Sta
 nisławą Celińską\, Janem A.P. Kaczmarkiem\, Ray'em Willsonem (Genesis)
 \, Markiem Ishamem (amerykańskim kompozytorem tworzącym gównie muzykę 
 filmową do hollywoodzkich produkcji t.j. "Autostopowicz" czy "Czarna Dali
 a"). Bartosz  ma na swoim koncie występy w Filharmonii Poznańskiej\, Gor
 zowskiej oraz Zielonogórskiej. Współtworzył także projekt muzyczny "D
 żem symfonicznie". Aktualnie koncertuje z Mają Koman - poznańską artys
 tką\, uczestniczką programów "Must Be The Music" (Polsat) oraz "Mam Tal
 ent" (TVN)\, nominowaną do nagrody "Fryderyki 2015" w kategorii Fonografi
 czny debiut roku.\n\nOd 2014 roku muzyk realizuje\, pod pseudonimem "Loop 
 Trigger"\, swój autorski projekt polegający na live looping'u (zapętlan
 iu na żywo) gry na elektronicznej wiolonczeli oraz beatboxingu. Loop Trig
 ger to istne "malowanie dźwiękiem"\, którego punktem wyjścia są cover
 y muzyki pop'owej\, rock'owej\, hip-hop'owej oraz muzyki filmowej. Artysta
  nie definiuje sceny tylko i wyłącznie do występów przed zorganizowan
 ą publicznością\, ale grywa i również na ulicach wielu miast\, wzbudz
 ając ciekawość i radość przechodniów. Aktulanie Loop Trigger współ
 pracuje z Bruce'm Bray'em - amerykańskim kompozytorem i producentem muzyc
 znym\, z którym to tworzy ścieżkę dźwiękową do filmu "Chronicles of
  the Steam" (2019).\n\nW imieniu Organizatorów\, serdecznie zapraszamy na
  spotkanie z muzyką tworzoną na żywo. Nie może tam zabraknąć i Ciebi
 e : )\n\nfacebook.com/looptrigger/
ATTACH;FMTTYPE=image/jpeg:https://night4u.pl/wp-content/uploads/2019/07/51
 964_image_61637109_847707272252924_8471994334785306624_n.jpg
CATEGORIES:wielkopolskie
LOCATION:Na Tarasie\, Święty Marcin 24\, Poznan\, 61-248\, Poland
GEO:52.407105;16.928558
X-APPLE-STRUCTURED-LOCATION;VALUE=URI;X-ADDRESS=Święty Marcin 24\, Poznan
 \, 61-248\, Poland;X-APPLE-RADIUS=100;X-TITLE=Na Tarasie:geo:52.407105,16.
 928558
END:VEVENT
BEGIN:VTIMEZONE
TZID:Europe/Warsaw
X-LIC-LOCATION:Europe/Warsaw
BEGIN:DAYLIGHT
DTSTART:20190331T030000
TZOFFSETFROM:+0100
TZOFFSETTO:+0200
TZNAME:CEST
END:DAYLIGHT
END:VTIMEZONE
END:VCALENDAR