BEGIN:VCALENDAR
VERSION:2.0
PRODID:-//wp-events-plugin.com//7.2.3.1//EN
TZID:Europe/Warsaw
X-WR-TIMEZONE:Europe/Warsaw
BEGIN:VEVENT
UID:502@night4u.pl
DTSTART;TZID=Europe/Warsaw:20181221T220000
DTEND;TZID=Europe/Warsaw:20181222T050000
DTSTAMP:20181217T171610Z
URL:https://night4u.pl/wydarzenia/srut-nocnej-ciszy/
SUMMARY:ŚRUT Nocnej Ciszy
DESCRIPTION:Mój kraj taki piękny! 
ATTACH;FMTTYPE=image/jpeg:https://night4u.pl/wp-content/uploads/2018/12/46
 95_image_47488114_566972157100318_6150929682301714432_o.jpg
CATEGORIES:lubelskie
END:VEVENT
BEGIN:VTIMEZONE
TZID:Europe/Warsaw
X-LIC-LOCATION:Europe/Warsaw
BEGIN:STANDARD
DTSTART:20181028T020000
TZOFFSETFROM:+0200
TZOFFSETTO:+0100
TZNAME:CET
END:STANDARD
END:VTIMEZONE
END:VCALENDAR