BEGIN:VCALENDAR
VERSION:2.0
PRODID:-//wp-events-plugin.com//7.2.3.1//EN
TZID:Europe/Warsaw
X-WR-TIMEZONE:Europe/Warsaw
BEGIN:VEVENT
UID:33186@night4u.pl
DTSTART;TZID=Europe/Warsaw:20191115T183000
DTEND;TZID=Europe/Warsaw:20191115T220000
DTSTAMP:20191115T193021Z
URL:https://night4u.pl/wydarzenia/stachursky-doskozzza-tour-2k19-gdansk-15
 -11-2019/
SUMMARY:Stachursky / Doskozzza Tour 2K19 / Gdańsk 15.11.2019!
DESCRIPTION:"Doskozzza Tour 2K19” to prawdziwa\, muzyczna chłosta od Sta
 chursky’ego!  Koncert z nowej trasy promującej najnowszą płytę "2K19
 "\, będącą kontynuacją platynowego „1999” oraz złotego krążka 
 „2009”\, z których pochodzą takie utwory jak „Dosko”\, czy „Ja
 m jest 444”. Wręcz kultowy już pierwszy singiel Doskozzza sprawił\, 
 że nowy projekt Stachursky’ego zdominował Internet jednocząc wokół 
 niego unikatową społeczność młodych ludzi. Czeka was totalnie ekspery
 mentalny koncertowy elektro pocisk! Będzie Neovixa\, a zmiłowania i łas
 ki na pewno nie będzie!\n\nROZKŁAD JAZDY:\nSpotkanie Meet&amp\;Greet - 1
 8:00\nOtwarcie bram - 18:30\nRozgrzewka z DJ - 19:00\nPotężna Chłosta o
 d Stachursky'ego - 20:00\n\nBilety 👇\nhttps://doskozzza.pl/#koncerty\n\
 nNa after i before zaprasza DJ  RootShot !\n\nPatronat medialny: Interia
ATTACH;FMTTYPE=image/jpeg:https://night4u.pl/wp-content/uploads/2019/11/82
 016_image_73321204_1239042806306067_3443039551923159040_o.jpg
CATEGORIES:pomorskie
LOCATION:Protokultura - Klub Sztuki Alternatywnej\, Ul. Niterów 29B\, Gdan
 sk\, 80-863\, Poland
GEO:54.364798;18.645647
X-APPLE-STRUCTURED-LOCATION;VALUE=URI;X-ADDRESS=Ul. Niterów 29B\, Gdansk\,
  80-863\, Poland;X-APPLE-RADIUS=100;X-TITLE=Protokultura - Klub Sztuki Alt
 ernatywnej:geo:54.364798,18.645647
END:VEVENT
BEGIN:VTIMEZONE
TZID:Europe/Warsaw
X-LIC-LOCATION:Europe/Warsaw
BEGIN:STANDARD
DTSTART:20191027T020000
TZOFFSETFROM:+0200
TZOFFSETTO:+0100
TZNAME:CET
END:STANDARD
END:VTIMEZONE
END:VCALENDAR