BEGIN:VCALENDAR
VERSION:2.0
PRODID:-//wp-events-plugin.com//7.2.3.1//EN
TZID:Europe/Warsaw
X-WR-TIMEZONE:Europe/Warsaw
BEGIN:VEVENT
UID:27479@night4u.pl
DTSTART;TZID=Europe/Warsaw:20191018T180000
DTEND;TZID=Europe/Warsaw:20191018T220000
DTSTAMP:20190914T110747Z
URL:https://night4u.pl/wydarzenia/stachursky-doskozzza-tour-2k19-wroclaw-1
 8-10-2019/
SUMMARY:Stachursky / Doskozzza Tour 2K19 / Wrocław 18.10.2019!
DESCRIPTION:"Doskozzza Tour 2K19” to prawdziwa\, muzyczna chłosta od Sta
 chursky’ego!  Koncert z nowej trasy promującej najnowszą płytę "2K19
 "\, będącą kontynuacją platynowego „1999” oraz złotego krążka 
 „2009”\, z których pochodzą takie utwory jak „Dosko”\, czy „Ja
 m jest 444”. Wręcz kultowy już pierwszy singiel Doskozzza sprawił\, 
 że nowy projekt Stachursky’ego zdominował Internet jednocząc wokół 
 niego unikatową społeczność młodych ludzi. Czeka was totalnie ekspery
 mentalny koncertowy elektro pocisk! Będzie Neovixa\, a zmiłowania i łas
 ki na pewno nie będzie!\n\nROZKŁAD JAZDY:\nSpotkanie Meet&Greet - 18:30\
 nOtwarcie bram & rozgrzewka z DJ'em - 19:00\nPotężna Chłosta od Stachur
 sky'ego - 20:00\n\n\nBilety ?\nhttps://doskozzza.pl/#koncerty
ATTACH;FMTTYPE=image/jpeg:https://night4u.pl/wp-content/uploads/2019/09/63
 980_image_67589280_1146501415560207_2202232884612300800_o.jpg
CATEGORIES:dolnośląskie
LOCATION:Zaklęte Rewiry\, Krakowska 100\, Wroclaw\, 50-427\, Poland
GEO:51.090523;17.065898
X-APPLE-STRUCTURED-LOCATION;VALUE=URI;X-ADDRESS=Krakowska 100\, Wroclaw\, 5
 0-427\, Poland;X-APPLE-RADIUS=100;X-TITLE=Zaklęte Rewiry:geo:51.090523,17
 .065898
END:VEVENT
BEGIN:VTIMEZONE
TZID:Europe/Warsaw
X-LIC-LOCATION:Europe/Warsaw
BEGIN:DAYLIGHT
DTSTART:20190331T030000
TZOFFSETFROM:+0100
TZOFFSETTO:+0200
TZNAME:CEST
END:DAYLIGHT
END:VTIMEZONE
END:VCALENDAR