BEGIN:VCALENDAR
VERSION:2.0
PRODID:-//wp-events-plugin.com//7.2.3.1//EN
TZID:Europe/Warsaw
X-WR-TIMEZONE:Europe/Warsaw
BEGIN:VEVENT
UID:9428@night4u.pl
DTSTART;TZID=Europe/Warsaw:20190406T180000
DTEND;TZID=Europe/Warsaw:20190407T000000
DTSTAMP:20190314T205957Z
URL:https://night4u.pl/wydarzenia/stage4you-final-vii-edycji/
SUMMARY:Stage4YOU - Finał VII edycji!
DESCRIPTION:Już 6 kwietnia długo oczekiwany Finał VII edycji Stage4YOU! 
 ?\n\nSześciu wyłonionych podczas przesłuchań wykonawców - Pasażer\, 
 The Rockin' Chair\, All the Same\, Zuza Gadowska Band\, Łaski Bez\, Jelsa
  - kto z nich okaże się najlepszy i wygra tegoroczną edycję?!\n\nKolej
 ność występów zostanie wylosowana bezpośrednio przed rozpoczęciem Ga
 li Finałowej.\nMy natomiast czekamy na Was już od 18:00 w Klub Proxima! 
 \n\nLiczymy na Waszą obecność i gwarantujemy dużo dobrej muzyki i zaba
 wy ?\nMamy też dla Was niespodziankę. Na naszej scenie wystąpi gość s
 pecjalny: zwycięzca VI edycji Stage4YOU - zespół PARA!\n\nPrzypominamy\
 , że to również Wy macie wpływ na to\, kto zdobędzie nagrodę główn
 ą\, którą jest występ na Juwenalia Uniwersytetu Warszawskiego. \nPrzed
 stawiamy zasady GŁOSOWANIA podczas Finału!\n\n1) Losowanie kolejności w
 ystępów odbędzie się około godziny 18:10 - przed rozpoczęciem koncer
 tu.\n2) Każda osoba\, która przy wejściu zakupi bilet\, otrzyma JEDNĄ 
 kartę do głosowania. Karta uprawnia do oddania jednego głosu na zespó
 ł.\n3) Głosowanie odbędzie się PO wszystkich występach Finalistów. K
 arty do głosowania będzie można wrzucać wtedy do urny stojącej w pobl
 iżu kasy biletowej.\n* W trakcie występów Finalistów nie będzie możl
 iwości\, aby oddać swój głos i wrzucić go do urny.\n4) Na karcie do g
 łosowania można postawić "x" tylko przy JEDNYM zespole. W przeciwnym ra
 zie głos będzie nieważny.\n5) Na końcowy wynik składa się suma głos
 ów jury (60%) oraz głosów publiczności (40%).\n\nDo zobaczenia 6 kwiet
 nia! ?\n\nWstęp: 5 zł. \nBilety do kupienia w Klub Proxima tuż przed we
 jściem na koncert.\n\nPartnerzy: Klub Proxima\, Uniwersytet Warszawski\, 
 Czwórka\, Red Bull
ATTACH;FMTTYPE=image/jpeg:https://night4u.pl/wp-content/uploads/2019/03/25
 459_image_54228740_1151638138340828_6946755695974809600_o.jpg
CATEGORIES:mazowieckie
LOCATION:Klub Proxima\, ul. Żwirki i Wigury 99a\, Warsaw\, 02-089\, Poland
GEO:52.212586;20.98704
X-APPLE-STRUCTURED-LOCATION;VALUE=URI;X-ADDRESS=ul. Żwirki i Wigury 99a\, 
 Warsaw\, 02-089\, Poland;X-APPLE-RADIUS=100;X-TITLE=Klub Proxima:geo:52.21
 2586,20.98704
END:VEVENT
BEGIN:VTIMEZONE
TZID:Europe/Warsaw
X-LIC-LOCATION:Europe/Warsaw
BEGIN:DAYLIGHT
DTSTART:20190331T030000
TZOFFSETFROM:+0100
TZOFFSETTO:+0200
TZNAME:CEST
END:DAYLIGHT
END:VTIMEZONE
END:VCALENDAR