BEGIN:VCALENDAR
VERSION:2.0
PRODID:-//wp-events-plugin.com//7.2.3.1//EN
TZID:Europe/Warsaw
X-WR-TIMEZONE:Europe/Warsaw
BEGIN:VEVENT
UID:39241@night4u.pl
DTSTART;TZID=Europe/Warsaw:20200121T200000
DTEND;TZID=Europe/Warsaw:20200121T220000
DTSTAMP:20200331T191256Z
URL:https://night4u.pl/wydarzenia/stand-up-adam-van-bendler-nowy-program-p
 lacebo-gdansk/
SUMMARY:Stand-up Adam Van Bendler Nowy Program "Placebo" - Gdańsk
DESCRIPTION:Już 21 stycznia w klubie Kwadratowa w Gdańsku wystąpi Adam V
 an Bendler z nowym programem "Placebo".\n\nW nowym programie Adama\, międ
 zy innymi o wszystkich pokusach i skutkach pracy komika w polskim show biz
 nesie. Emocjonalna kolejka górska w której ostatni wagonik złowrogo pis
 zczy a operator chyba zapomniał\, że przejażdżka jeszcze się nie sko
 ńczyła\, zostawiając na górze krzyczących ludzi. Co jest sposobem na 
 karierę i czy można zbudować z pieniędzy ścianę chroniącą przed de
 presją i wieczną pustką? Tego dowiecie się w nowym programie "Placebo"
  który wjeżdża właśnie na polskie sceny!\n\nProwadzenie: Paweł Bakte
 ria\nOdbędzie się Open-mic\n\nStart: 20:00\nBramy: 19:00\n\nCena: 35 zł
  w przedsprzedaży / 45 zł w dniu wydarzenia\n\nhttps://www.kupbilecik.pl
 /imprezy/46361/Gda%C5%84sk/Adam+Van+Bendler+Stand-up+Prezentuje/\n\nDo Zob
 aczenia !\n\n*Zakaz nagrywania występu
ATTACH;FMTTYPE=image/jpeg:https://night4u.pl/wp-content/uploads/2020/01/11
 4922_image_83755384_2586506724913763_1813743549271769088_o.jpg
CATEGORIES:pomorskie
LOCATION:AK PG Kwadratowa\, Siedlicka 4\, Gdansk\, 80-222\, Poland
GEO:54.3708;18.61536
X-APPLE-STRUCTURED-LOCATION;VALUE=URI;X-ADDRESS=Siedlicka 4\, Gdansk\, 80-2
 22\, Poland;X-APPLE-RADIUS=100;X-TITLE=AK PG Kwadratowa:geo:54.3708,18.615
 36
END:VEVENT
BEGIN:VTIMEZONE
TZID:Europe/Warsaw
X-LIC-LOCATION:Europe/Warsaw
BEGIN:STANDARD
DTSTART:20191027T020000
TZOFFSETFROM:+0200
TZOFFSETTO:+0100
TZNAME:CET
END:STANDARD
END:VTIMEZONE
END:VCALENDAR