BEGIN:VCALENDAR
VERSION:2.0
PRODID:-//wp-events-plugin.com//7.2.3.1//EN
TZID:Europe/Warsaw
X-WR-TIMEZONE:Europe/Warsaw
BEGIN:VEVENT
UID:15304@night4u.pl
DTSTART;TZID=Europe/Warsaw:20190526T190000
DTEND;TZID=Europe/Warsaw:20190526T210000
DTSTAMP:20190509T095106Z
URL:https://night4u.pl/wydarzenia/stand-up-adam-van-bendler-swiatlo-w-tune
 lu-kielce/
SUMMARY:Stand-up Adam Van Bendler "Światło w tunelu" - Kielce
DESCRIPTION:Już 26 maja w Klubie MASKA Incognito Club w Kielcach wystąpi 
 Adam Van Bendler ! I jego "Światło w tunelu".\n\nAdam to człowieka któ
 ry zaprzedał duszę komedii\, zwierzętom i... wiecznym tarapatom dzięki
  którym zawsze ma coś ciekawego do powiedzenia. W tym programie dowiemy 
 się co siedzi w głowie introwertyka który po 5 latach bytowania w depre
 syjnej Skandynawii\, w obawie przed samobójem powraca do ojczyzny by post
 awić wszystko na jedną kartę. Jeszcze nie wie\, że ta karta to tylko j
 opek\, którym sam się staje się w obliczu prawdziwej wojny. Wojny kart 
 pobrudzonych tanim keczupem społecznych oczekiwań i tłuszczem własnych
  lęków. Choć opis wręcz ocieka populistyczną głębią i tanią hipst
 erską apaszką z Pepco\, to jednak wiadomo\, że nie zabraknie tu znów s
 łodko-gorzkich\, niszczących od łez żartów i dziwnych hipotez w stylu
  do którego przyzwyczaił nas Adam.\n\nProwadzenie/Support: Damian Skóra
 \n\nNagrywka programu\n\nStart: 19:00\nBramy: 18:00\nCena: 30 zł w przeds
 przedaży / 40 zł w dniu wydarzenia\n\n➡ https://www.kupbilecik.pl/impr
 eza-37972-adam.van.bendler.standup.prezentuje.kielce.html\n\n➡ https://s
 tandupbilety.pl/event/569_stand-up-adam-van-bendler-wiato-w-tunelu-kielce\
 n\nDo zobaczenia!
ATTACH;FMTTYPE=image/jpeg:https://night4u.pl/wp-content/uploads/2019/05/37
 812_image_59651443_2371510693080035_8657813788449308672_o.jpg
CATEGORIES:świętokrzyskie
LOCATION:MASKA Incognito Club\, Rynek 5\, Kielce\, 25-303\, Poland
GEO:50.871945;20.632092
X-APPLE-STRUCTURED-LOCATION;VALUE=URI;X-ADDRESS=Rynek 5\, Kielce\, 25-303\,
  Poland;X-APPLE-RADIUS=100;X-TITLE=MASKA Incognito Club:geo:50.871945,20.6
 32092
END:VEVENT
BEGIN:VTIMEZONE
TZID:Europe/Warsaw
X-LIC-LOCATION:Europe/Warsaw
BEGIN:DAYLIGHT
DTSTART:20190331T030000
TZOFFSETFROM:+0100
TZOFFSETTO:+0200
TZNAME:CEST
END:DAYLIGHT
END:VTIMEZONE
END:VCALENDAR