BEGIN:VCALENDAR
VERSION:2.0
PRODID:-//wp-events-plugin.com//7.2.3.1//EN
TZID:Europe/Warsaw
X-WR-TIMEZONE:Europe/Warsaw
BEGIN:VEVENT
UID:48441@night4u.pl
DTSTART;TZID=Europe/Warsaw:20200407T190000
DTEND;TZID=Europe/Warsaw:20200407T210000
DTSTAMP:20200405T183059Z
URL:https://night4u.pl/wydarzenia/stand-up-blazej-krajewski-komedia-pomyle
 k-%e2%80%a2-zakopane/
SUMMARY:Stand-up: Błażej Krajewski "Komedia Pomyłek" • Zakopane
DESCRIPTION:Błażej Krajewski powraca ze swoim najnowszym programem „Kom
 edia Pomyłek”!!!\n\nBydgoski komik\, z powodzeniem rozśmiesza publiczn
 ość w całej Polsce od 6 lat. Najbardziej znany z genialnych modulacji g
 łosowych\, a jego nagranie z charakterystycznym syntezatorem głosowym Iv
 ona było wyświetlone miliony razy.  „Komedia Pomyłek” rozbawia do 
 łez historiami z rodzinnej Bydgoszczy\, wieloma wpadkami \, które Błaż
 ej przyciąga do siebie jak magnes oraz wcieleniami w barwne postacie zacz
 erpnięte ze świata popkultury.\n\nProwadzenie: Damian Skóra\nSupport: M
 aks Padalak\n\n\n7.04.2020r. \nLe Scandale Zakopane\nul. Zaruskiego 5\n\n\
 nDrzwi: 18.30\nStart: 19:30\n\n-------------------------------------------
 -------------\nBilety:\n\ndostępne wyłącznie na KupBilecik.pl\n\nhttps:
 //www.kupbilecik.pl/imprezy/50709/Zakopane/Stand-up%3A+B%C5%82a%C5%BCej+Kr
 ajewski/\n---------------------------------------------------------\n\n\n\
 n\nWydarzenie przeznaczone dla osób powyżej 16 roku życia.
ATTACH;FMTTYPE=image/jpeg:https://night4u.pl/wp-content/uploads/2020/02/16
 5591_image_87034906_2783347811744446_3202494518326722560_o.jpg
CATEGORIES:małopolskie
LOCATION:Le Scandale Zakopane\, Zaruskiego 5 · Zakopane\, Zakopane\, 34-50
 0\, Poland
GEO:49.294475;19.950227
X-APPLE-STRUCTURED-LOCATION;VALUE=URI;X-ADDRESS=Zaruskiego 5 · Zakopane\, 
 Zakopane\, 34-500\, Poland;X-APPLE-RADIUS=100;X-TITLE=Le Scandale Zakopane
 :geo:49.294475,19.950227
END:VEVENT
BEGIN:VTIMEZONE
TZID:Europe/Warsaw
X-LIC-LOCATION:Europe/Warsaw
BEGIN:DAYLIGHT
DTSTART:20200329T030000
TZOFFSETFROM:+0100
TZOFFSETTO:+0200
TZNAME:CEST
END:DAYLIGHT
END:VTIMEZONE
END:VCALENDAR