BEGIN:VCALENDAR
VERSION:2.0
PRODID:-//wp-events-plugin.com//7.2.3.1//EN
TZID:Europe/Warsaw
X-WR-TIMEZONE:Europe/Warsaw
BEGIN:VEVENT
UID:26941@night4u.pl
DTSTART;TZID=Europe/Warsaw:20190912T200000
DTEND;TZID=Europe/Warsaw:20190912T223000
DTSTAMP:20190907T180413Z
URL:https://night4u.pl/wydarzenia/stand-up-czempion-arkadiusz-jaksa-jaksze
 wicz-open-mic/
SUMMARY:Stand-up Czempion: Arkadiusz Jaksa Jakszewicz + open mic
DESCRIPTION:Startujemy z nowym cyklem wydarzeń w Prominencie. \nOtwieramy 
 nasze drzwi dla Was na stand up. \nPrzyjemny\, starannnie wyselekcjonowany
 \, niezobowiązujący\, wysublimowany\, wirtuozerski i niewybrednie zabawn
 y\n\nNa start pojawi się dla Was wyjątkowy gość z dalekiej północy\,
  z magicznej Warmii. Doświadczony komik z ogromnym zapleczem humoru. \n\n
 ARKADIUSZ JAKSA JAKSZEWICZ\n\nNie da się uniknąć i nie zauważyć jedne
 j rzeczy. Jaksa jest rudy. Rudy od dziecka. Od jakiegoś czasu jest jeszcz
 e rudy i łysy\, i ma rudą brodę. \nRudobrody jest skuteczny i nauczył 
 się obracać niepowodzenia w żart. Swoje historie zbiera od lat po lasac
 h\, polach\, domach\, pociągach\, ulicach i snach. Jaksa jest też z zami
 łowania historykiem - ale w żadnym wypadku dzielenie się tym nie przypo
 mina nudnych lekcji ze szkoly. Występował\, i będzie występował\, w C
 omedy Central Polska\, a także w Suwałkach. W tym roku dostał nagrodę 
 na festiwalu FAMA. Prawda jest jednak taka\, że Jaksa to gość\, któreg
 o kalendarz jest bardzo napięty. Tylko w ostatnim miesiącu dzielił scen
 ę z takimi czempionami jak Bartosz Gajda\, Michał Pałubski\, Abelard Gi
 za\, czy Ryszard Mazur. \n\nNagranie:\nhttps://www.youtube.com/watch?v=6Js
 gsvsl6KE\n\nImprezę rozpoczniemy od CZEMPIONÓW DEBIUTUJĄCYCH czyli Open
  Mice'a podczas którego zaprezentuje się nam/ bądź nie (to zależy od 
 zgłoszeń) kilku lokalnych komików.\n\nImprezę poprowadzi \n\nMatełko 
 czyli Mateusz Marek:\nkomik\, konferansjer i piosenkarz w SMKKPM - Sekcji 
 Muzycznej Kołłątajowskiej Kuźni Prawdziwych Mężczyzn. Zawodowo zwią
 zany z RMF MAXXX. Artysta - klown szpitalny w fundacji Czerwone Noski. \n\
 n*WSTĘP WOLNY*\n\nPo stand upie wracamy do Was z regularnym\, otwartym tr
 ybem wieczornym
ATTACH;FMTTYPE=image/jpeg:https://night4u.pl/wp-content/uploads/2019/09/62
 806_image_70557070_10156675248993042_4243363719205093376_o.jpg
CATEGORIES:małopolskie
LOCATION:PROMINENT The Original Lounge Bar\, Kraków\, Poland
GEO:50.0754;19.94082
X-APPLE-STRUCTURED-LOCATION;VALUE=URI;X-ADDRESS=Kraków\, Poland;X-APPLE-RA
 DIUS=100;X-TITLE=PROMINENT The Original Lounge Bar:geo:50.0754,19.94082
END:VEVENT
BEGIN:VTIMEZONE
TZID:Europe/Warsaw
X-LIC-LOCATION:Europe/Warsaw
BEGIN:DAYLIGHT
DTSTART:20190331T030000
TZOFFSETFROM:+0100
TZOFFSETTO:+0200
TZNAME:CEST
END:DAYLIGHT
END:VTIMEZONE
END:VCALENDAR