BEGIN:VCALENDAR
VERSION:2.0
PRODID:-//wp-events-plugin.com//7.2.3.1//EN
TZID:Europe/Warsaw
X-WR-TIMEZONE:Europe/Warsaw
BEGIN:VEVENT
UID:26940@night4u.pl
DTSTART;TZID=Europe/Warsaw:20190926T200000
DTEND;TZID=Europe/Warsaw:20190926T230000
DTSTAMP:20190907T180411Z
URL:https://night4u.pl/wydarzenia/stand-up-czempions-grabowski-kasparek-ma
 telko-open-mice/
SUMMARY:Stand-Up Czempions: Grabowski\, Kasparek\, Matełko + open mice
DESCRIPTION:Otwieramy nasze drzwi dla Was na Stand Up!\nPrzyjemny\, starann
 ie wyselekcjonowany\, niezobowiązujący\, wysublimowany\, wirtuozerski i 
 niewybrednie zabawny.\n\nW drugiej edycji imprezy stawiamy na młodość\,
  inteligencję i eksperyment. Właściwie to zapomnijcie o pierwszych dwó
 ch :)\n\nTego wieczoru zaprezentują się: \n\n× Krzysztof Kasparek ×\nK
 rakowski komik związany z Comedy Lab. Wyjątkowy chłopak z wielkim darem
  obserwacji i nutką filozoficznej zadumy. O sobie pieszczotliwie pisze: "
 Osiągnąłem 30 lat i liczę na więcej". Ma za sobą dziesiątki\, jeśl
 i nie setki występów\, w tym na pewno przynajmniej jeden w Kielcach.\n\n
 × Zbychu Grabowski ×\nDJ\, komik\, konferansjer. Członek krakowskiego C
 omedy Lab od 2014 roku. Finalista 4. Antrakt Stand-up Festiwal w 2017 roku
 . Z pewnością mogliście go widzieć w "Comedy Club" na Comedy Central. 
 Komik nad wyraz dobry\, zwłaszcza jak ma się życzliwe podejście \;) Zb
 ychu jest swojski\, przyjacielski\, a przy tym bardzo skuteczny i z sążn
 ym żartem. Przy Zbychu czujesz się jak przy dobrym kumplu - to imię zob
 owiązuje. \n\n× Matełko\, czyli Mateusz Marek ×\nKomik\, konferansjer 
 i piosenkarz w SMKKPM - Sekcji Muzycznej Kołłątajowskiej Kuźni Prawdzi
 wych Mężczyzn. Zawodowo związany z RMF MAXXX. Artysta - klown szpitalny
  w fundacji Czerwone Noski. W stand upie upatruje rozwoju\, obietnicy leps
 zej przyszłości i przedłużenia sobie młodości\, której nie jest w s
 tanie manifestować drogim samochodem i atletyczną sylwetką. \n\n*WSTĘP
  WOLNY*\n\nPo Stand Upie wracamy do Was z regularnym\, otwartym trybem wie
 czornym.
ATTACH;FMTTYPE=image/jpeg:https://night4u.pl/wp-content/uploads/2019/09/62
 804_image_69699620_10156676528868042_446455090140676096_o.jpg
CATEGORIES:małopolskie
LOCATION:PROMINENT The Original Lounge Bar\, Kraków\, Poland
GEO:50.0754;19.94082
X-APPLE-STRUCTURED-LOCATION;VALUE=URI;X-ADDRESS=Kraków\, Poland;X-APPLE-RA
 DIUS=100;X-TITLE=PROMINENT The Original Lounge Bar:geo:50.0754,19.94082
END:VEVENT
BEGIN:VTIMEZONE
TZID:Europe/Warsaw
X-LIC-LOCATION:Europe/Warsaw
BEGIN:DAYLIGHT
DTSTART:20190331T030000
TZOFFSETFROM:+0100
TZOFFSETTO:+0200
TZNAME:CEST
END:DAYLIGHT
END:VTIMEZONE
END:VCALENDAR