BEGIN:VCALENDAR
VERSION:2.0
PRODID:-//wp-events-plugin.com//7.2.3.1//EN
TZID:Europe/Warsaw
X-WR-TIMEZONE:Europe/Warsaw
BEGIN:VEVENT
UID:37186@night4u.pl
DTSTART;TZID=Europe/Warsaw:20200109T200000
DTEND;TZID=Europe/Warsaw:20200109T230000
DTSTAMP:20200331T202200Z
URL:https://night4u.pl/wydarzenia/stand-up-dla-wosp-wroclaw-janek-wolanczy
 k/
SUMMARY:Stand-Up dla WOŚP / Wrocław / Janek Wolańczyk
DESCRIPTION:Kochani Bracia i siostry umiłowani w Stand-Upie.\nMam zaszczyt
  Was zaprosić na wyjątkowy Stand-Up gdzie będziemy pomagać dobrze się
  bawiąc. Tak własnie ja sam byłem ździwiony\, że to tak można. \nCa
 ły dochód z imprezy przekazujemy na Wielką Orkiestrę Świątecznej Pom
 ocy. \nDla osób które możliwe\, że spotkają się ze mną pierwszy raz
 :\n\nJANEK WOLAŃCZYK -  jedyny w Polsce jąkający się Stand-Up'er. NA s
 cenie jest od 2014 roku. Jeden z najbardziej energicznych komików w naszy
 m kraju. Opowieściami o rodzinie\, swoich byłych związkach\, szkole i s
 woich poprzednich pracach sprawia\, że publiczność utożsamia się z bo
 haterami jego historii\, co tworzy niesamowitą atmosferę. Występował w
  Comedy Central oraz uczestniczył w wielu audycjach radiowych. Uwielbia s
 woje miasto rodzinne\, którym jest Wrocław\, co nie raz da się wyłapa
 ć w jego materiale. Do tej pory stworzył 3 autorskie\, godzinne programy
  komediowe i teraz z czwartym z kolei podbija Polskę.\n\nBilety dostępne
  na www.kupbilecik\,pl  \n\nILOŚĆ MIEJSC OGRANICZONA!
ATTACH;FMTTYPE=image/jpeg:https://night4u.pl/wp-content/uploads/2019/11/10
 2519_image_74533380_2547735905311301_5884912168335310848_n.jpg
CATEGORIES:dolnośląskie
LOCATION:Rudy Kot\, Ruska 47/48A\, Wroclaw\, 50-079\, Poland
GEO:51.110146;17.024937
X-APPLE-STRUCTURED-LOCATION;VALUE=URI;X-ADDRESS=Ruska 47/48A\, Wroclaw\, 50
 -079\, Poland;X-APPLE-RADIUS=100;X-TITLE=Rudy Kot:geo:51.110146,17.024937
END:VEVENT
BEGIN:VTIMEZONE
TZID:Europe/Warsaw
X-LIC-LOCATION:Europe/Warsaw
BEGIN:STANDARD
DTSTART:20191027T020000
TZOFFSETFROM:+0200
TZOFFSETTO:+0100
TZNAME:CET
END:STANDARD
END:VTIMEZONE
END:VCALENDAR