BEGIN:VCALENDAR
VERSION:2.0
PRODID:-//wp-events-plugin.com//7.2.3.1//EN
TZID:Europe/Warsaw
X-WR-TIMEZONE:Europe/Warsaw
BEGIN:VEVENT
UID:16345@night4u.pl
DTSTART;TZID=Europe/Warsaw:20190528T200000
DTEND;TZID=Europe/Warsaw:20190528T220000
DTSTAMP:20190516T203644Z
URL:https://night4u.pl/wydarzenia/stand-up-end-season-wojtowicz-mazur-cykt
 or-plonka/
SUMMARY:Stand-Up End Season Wójtowicz/Mazur/Cyktor/Płonka
DESCRIPTION:Zakończenie sezonu w galaktyczne wielkim stylu! Kamieni niesko
 ńczoności nie ma ale jest pięcioro nieskończenie uzdolnionych komików
 ! Przed letnią przerwą pożegnajmy sezon z waszymi ulubieńcami Wrocław
 skiej sceny Stand-up/\nWystąpią: Grzesiek Wójtowicz / Rysiek Mazur/ Are
 k Cyktor/ Michał Płonka Stand-Up a gospodarzem sceny będzie jedyna i ni
 ebezpieczna Justyna Sokolska :D Bilety dostępne przy wejściu na imprezę
 . ZAPRASZAMY!
ATTACH;FMTTYPE=image/jpeg:https://night4u.pl/wp-content/uploads/2019/05/40
 030_image_60487709_334049310643861_5865975447073849344_o.jpg
CATEGORIES:dolnośląskie
LOCATION:Czarny Kot Klub\, Ul. Ruska 47/48a.\, Wroclaw\, 50-079\, Poland
GEO:51.11031;17.02511
X-APPLE-STRUCTURED-LOCATION;VALUE=URI;X-ADDRESS=Ul. Ruska 47/48a.\, Wroclaw
 \, 50-079\, Poland;X-APPLE-RADIUS=100;X-TITLE=Czarny Kot Klub:geo:51.11031
 ,17.02511
END:VEVENT
BEGIN:VTIMEZONE
TZID:Europe/Warsaw
X-LIC-LOCATION:Europe/Warsaw
BEGIN:DAYLIGHT
DTSTART:20190331T030000
TZOFFSETFROM:+0100
TZOFFSETTO:+0200
TZNAME:CEST
END:DAYLIGHT
END:VTIMEZONE
END:VCALENDAR