BEGIN:VCALENDAR
VERSION:2.0
PRODID:-//wp-events-plugin.com//7.2.3.1//EN
TZID:Europe/Warsaw
X-WR-TIMEZONE:Europe/Warsaw
BEGIN:VEVENT
UID:42928@night4u.pl
DTSTART;TZID=Europe/Warsaw:20200226T200000
DTEND;TZID=Europe/Warsaw:20200226T220000
DTSTAMP:20200226T073759Z
URL:https://night4u.pl/wydarzenia/stand-up-gorzow-c-60-arkadiusz-pan-pawlo
 wski/
SUMMARY:Stand-up Gorzów C-60: Arkadiusz Pan Pawłowski
DESCRIPTION:Arkadiusz Pan Pawłowski\n\nPochodzi z Gdańska i z komedią w 
 formach różnorakich jest związany od lat. Pionier polskiego pro wrestli
 ngu\, założyciel Kabaret Pod Napięciem\, ojciec internetowego projektu 
 komediowego Grupa Kamerowani\, ring announcer FAME MMA\, motor napędowy w
 ielu inicjatyw improwizowanych\, organizator wydarzeń i propagator wszyst
 kiego\, co go bawi. Na scenie charakteryzuje go nietuzinkowa\, zaraźliwa 
 energia i błyskotliwa\, cięta riposta\, co sprawia\, że 3/4 występu zd
 arza mu się przegadać z publicznością\, która nie ma nic przeciwko\, 
 szczególnie\, że pozostała 1/4 materiału jest całkiem spoko. Wirtuoz 
 sucharów\, do tego gruby\, aż miło\, nic tylko ściskać za poliki. Poz
 a klasycznymi żartami i improwizacjami lubi sobie na scenie zaśpiewać\,
  zatańczyć\, koziołki pofikać. Full service. Laureat najważniejszych 
 przeglądów komediowych w Polsce\, mistrz Polski one man show\, uczestnik
  telewizyjnych programów komediowych na antenie Polsatu\, TVP 2\, Comedy 
 Central.\n\nBilety w przedsprzedaży: 25 PLN\nPo wyprzedaniu limitowanej p
 uli oraz w dniu wydarzenia: 40 PLN
ATTACH;FMTTYPE=image/jpeg:https://night4u.pl/wp-content/uploads/2020/02/13
 6784_image_84384446_2219391735021241_776587343325822976_o.jpg
CATEGORIES:lubuskie
LOCATION:C-60\, Zaułek 1\, Gorzów Wielkopolski\, 66-400\, Poland
GEO:52.729476;15.237369
X-APPLE-STRUCTURED-LOCATION;VALUE=URI;X-ADDRESS=Zaułek 1\, Gorzów Wielkop
 olski\, 66-400\, Poland;X-APPLE-RADIUS=100;X-TITLE=C-60:geo:52.729476,15.2
 37369
END:VEVENT
BEGIN:VTIMEZONE
TZID:Europe/Warsaw
X-LIC-LOCATION:Europe/Warsaw
BEGIN:STANDARD
DTSTART:20191027T020000
TZOFFSETFROM:+0200
TZOFFSETTO:+0100
TZNAME:CET
END:STANDARD
END:VTIMEZONE
END:VCALENDAR