BEGIN:VCALENDAR
VERSION:2.0
PRODID:-//wp-events-plugin.com//7.2.3.1//EN
TZID:Europe/Warsaw
X-WR-TIMEZONE:Europe/Warsaw
BEGIN:VEVENT
UID:38776@night4u.pl
DTSTART;TZID=Europe/Warsaw:20191215T200000
DTEND;TZID=Europe/Warsaw:20191215T220000
DTSTAMP:20191215T073800Z
URL:https://night4u.pl/wydarzenia/stand-up-gorzow-w-c-60-dabrowski-reszela
 -wojteczek/
SUMMARY:Stand-up Gorzów w C-60: Dąbrowski\, Reszela\, Wojteczek
DESCRIPTION:Już 15 grudnia stand-up zawita do C-60 w Gorzowie Wielkopolski
 m. Tym razem wystąpi trzech komików:\n\nKuba Dąbrowski Stand-Up - obser
 wuje wszystko i wszystkich. Potem to zapomina i na podstawie tego tworzy m
 ateriał. Lubi rzucić czasem coś bardzo obrzydliwego\, robaczywego\, cho
 ciaż preferuje grzeczniejszą formę komedii. Miłośnik wideł.\n\nPawe
 ł Reszela - Stand-Up Comedy - jeden z najstarszych komików  w Polsce w s
 ensie stażu\, bo z twarzy jeszcze nie taki stary. Na pierwszym miejscu st
 awia cięty język i ostre żarty.\n\nPiotr Wojteczek - trochę zwyrol\, t
 rochę lama. Czasami ludzie wychodzą z jego występów oburzeni\, a czasa
 mi stawiają mu kolejki. Pasjonat czosnku.\n\nBILETY:\n30 zł - w przedspr
 zedaży\n40 zł - w dniu wydarzenia
ATTACH;FMTTYPE=image/jpeg:https://night4u.pl/wp-content/uploads/2019/12/11
 1398_image_75492499_302020550681445_4898503307389042688_o.jpg
CATEGORIES:lubuskie
LOCATION:C-60\, Zaułek 1\, Gorzów Wielkopolski\, 66-400\, Poland
GEO:52.729476;15.237369
X-APPLE-STRUCTURED-LOCATION;VALUE=URI;X-ADDRESS=Zaułek 1\, Gorzów Wielkop
 olski\, 66-400\, Poland;X-APPLE-RADIUS=100;X-TITLE=C-60:geo:52.729476,15.2
 37369
END:VEVENT
BEGIN:VTIMEZONE
TZID:Europe/Warsaw
X-LIC-LOCATION:Europe/Warsaw
BEGIN:STANDARD
DTSTART:20191027T020000
TZOFFSETFROM:+0200
TZOFFSETTO:+0100
TZNAME:CET
END:STANDARD
END:VTIMEZONE
END:VCALENDAR