BEGIN:VCALENDAR
VERSION:2.0
PRODID:-//wp-events-plugin.com//7.2.3.1//EN
TZID:Europe/Warsaw
X-WR-TIMEZONE:Europe/Warsaw
BEGIN:VEVENT
UID:51138@night4u.pl
DTSTART;TZID=Europe/Warsaw:20211019T190000
DTEND;TZID=Europe/Warsaw:20211019T210000
DTSTAMP:20210908T144712Z
URL:https://night4u.pl/wydarzenia/stand-up-legnica-tomek-kolecki-x-darek-g
 adowski/
SUMMARY:Stand-up Legnica: Tomek Kołecki x Darek Gadowski
DESCRIPTION:Zamów bilety już teraz na Biletomat.pl lub kupbilecki.pl \n\n
 https://www.biletomat.pl/standup/stand-up-legnica-tomek-kolecki-x-darek-ga
 dowski-10356/\n\nhttps://www.kupbilecik.pl/imprezy/60773/Legnica/Stand-up%
 3A+Ko%C5%82ecki+%26+Gadowski/\n\nLegnica i okolice! Zapraszamy na wieczór
  stand-up comedy w Klub Spiżarni. Z nowymi programami wystąpią dla Was:
 \n\n\nTomek Kołecki - Urodzony w '97\, na scenie od 2013 roku. Ze swoimi 
 występami zjechał już całą Polskę oraz trochę Europy. Mogliście go
  zobaczyć także w takich programach telewizyjnych jak «Tylko dla doros
 łych» TVP2\, «Comedy Club» Comedy Central czy «Kuba Wojewódzki» TVN
 .\nWygrał 4 edycje Antrakt Stand-up festiwal dzięki czemu mógł wystąp
 ić w takich lokalizacjach jak Warszawski Torwar\, Katowicki Spodek czy Gd
 ańska Ergo Arena. Przez dwa lata współtworzył projekt Po prostu stand-
 up. Obecnie rozwija swój autorski projekt Please stand-up. Tomek będzie 
 testować żarty na zbliżającą się trasę Please stand-up.\n\nDarek Ga
 dowski - czysta koszalińska energia\, spotkania z Darkiem to idealna tera
 pia na smutną rzeczywistość. Jego stand-up napędzany na równi frustra
 cją\, inwencją i czystym relaksem wzbudza zasłużone reakcje w całym k
 raju.\nKażdy wieczór sygnowany nazwiskiem Darka Gadowskiego to tak napra
 wdę wizyta dawno niewidzianego\, bliskiego przyjaciela\, z którym uwielb
 iamy się śmiać i zgadzać na przemian.\n\n--------------------------\n\
 n* Zakaz nagrywania występów.\n\n* Występ dla osób powyżej 16. roku 
 życia.\n\n* Osoby przeszkadzające zostaną wyproszone z imprezy bez moż
 liwości ubiegania się o zwrot należności za bilety.
ATTACH;FMTTYPE=image/jpeg:https://night4u.pl/wp-content/uploads/2021/08/18
 6489_image_235433716_389512762533944_1110195973590076850_n.jpg
CATEGORIES:dolnośląskie
LOCATION:Klub Spiżarnia\, Piastowska 1\, Legnica\, 59-220\, Poland
GEO:51.207752;16.155634
X-APPLE-STRUCTURED-LOCATION;VALUE=URI;X-ADDRESS=Piastowska 1\, Legnica\, 59
 -220\, Poland;X-APPLE-RADIUS=100;X-TITLE=Klub Spiżarnia:geo:51.207752,16.
 155634
END:VEVENT
BEGIN:VTIMEZONE
TZID:Europe/Warsaw
X-LIC-LOCATION:Europe/Warsaw
BEGIN:DAYLIGHT
DTSTART:20210328T030000
TZOFFSETFROM:+0100
TZOFFSETTO:+0200
TZNAME:CEST
END:DAYLIGHT
END:VTIMEZONE
END:VCALENDAR