BEGIN:VCALENDAR
VERSION:2.0
PRODID:-//wp-events-plugin.com//7.2.3.1//EN
TZID:Europe/Warsaw
X-WR-TIMEZONE:Europe/Warsaw
BEGIN:VEVENT
UID:47340@night4u.pl
DTSTART;TZID=Europe/Warsaw:20200329T180000
DTEND;TZID=Europe/Warsaw:20200329T230000
DTSTAMP:20200323T081957Z
URL:https://night4u.pl/wydarzenia/stand-up-level-up-reload/
SUMMARY:Stand-Up Level-Up Reload
DESCRIPTION:❗Zapraszamy na drugą edycję otwartego konkursu Stand-up w W
 arszawie❗\n\nW ubiegłym roku pierwsza edycja "Stand-Up Level-Up" okaza
 ła się ogromnym sukcesem ze względu na wysoki poziom umiejętności kom
 ediowych uczestników\, a także dzięki licznej publiczności\, która za
 szczyciła nas swoją obecnością tego wieczoru 🎙️✨\nW tym roku po
 wracamy w drugiej edycji pod nazwą "Stand-Up Level-Up RELOAD"\, by jeszcz
 e raz rozbawić publiczność do łez. Jako uczestnik masz prawdziwą i ni
 epowtarzalną okazję stanąć na scenie przed publicznością\, by pokaza
 ć\, na co cię stać 🏆\nNie zwlekaj\, zgłoś się już dziś! ⏳\n\n
 ❗ ZAPISY ZAMKNIĘTE ❗\n\n⬇️REGULAMIN⬇️\nhttp://bit.do/standup-
 levelup-RELOAD-regulamin\n__________________________\n\n"Stand-Up Level-Up
  RELOAD" to wydarzenie organizowane przez Niezależne Zrzeszenie Studentó
 w UKSW\, gdzie możesz wykazać się swoimi umiejętnościami w dziedzinie
  stand-up i wygrać własne show!\n\n\nWięcej informacji już wkrótce!\n
 _______________________\n#standup #scena #występ ❤
ATTACH;FMTTYPE=image/jpeg:https://night4u.pl/wp-content/uploads/2020/02/15
 8048_image_84354369_100593934855492_1468890007916773376_n.jpg
CATEGORIES:mazowieckie
LOCATION:BANK CLUB\, Mazowiecka 14\, Warsaw\, 00-048\, Poland
GEO:52.23816;21.01309
X-APPLE-STRUCTURED-LOCATION;VALUE=URI;X-ADDRESS=Mazowiecka 14\, Warsaw\, 00
 -048\, Poland;X-APPLE-RADIUS=100;X-TITLE=BANK CLUB:geo:52.23816,21.01309
END:VEVENT
BEGIN:VTIMEZONE
TZID:Europe/Warsaw
X-LIC-LOCATION:Europe/Warsaw
BEGIN:DAYLIGHT
DTSTART:20200329T030000
TZOFFSETFROM:+0100
TZOFFSETTO:+0200
TZNAME:CEST
END:DAYLIGHT
END:VTIMEZONE
END:VCALENDAR