BEGIN:VCALENDAR
VERSION:2.0
PRODID:-//wp-events-plugin.com//7.2.3.1//EN
TZID:Europe/Warsaw
X-WR-TIMEZONE:Europe/Warsaw
BEGIN:VEVENT
UID:48918@night4u.pl
DTSTART;TZID=Europe/Warsaw:20200324T190000
DTEND;TZID=Europe/Warsaw:20200324T210000
DTSTAMP:20200331T140050Z
URL:https://night4u.pl/wydarzenia/stand-up-lublin-arkadiusz-jaksa-jakszewi
 cz-juliusz-sipika/
SUMMARY:Stand-up: Arkadiusz Jaksa Jakszewicz\, Juliusz Sipika
DESCRIPTION:Zapraszamy na stand-up w SilenceClub! Wystąpią:\n\nArkadiusz 
 Jaksa Jakszewicz\nRudobrody z Warmii mówi historie śmieszne według sieb
 ie i kilku innych osób. Dotyczące siebie i kilku innych osób\, a nawet 
 czasami nas wszystkich. Zbierane kilka lat po lasach\, polach\, domach\, p
 ociągach\, ulicach i snach. O sprawach przyziemnych i nie\, o ludziach i 
 nie tylko\, bo i o rybach też. O podróżach i o obrażaniu się\, o nawy
 kach\, przyjaźni\, o Panach żulach i o tym\, jak ciężko jest rudym w P
 olsce i jak łatwo można z tym wszystkim skończyć. Ogólnie wesoło na 
 maksa. Występował w Comedy Central Polska. W zeszłym roku zdobył nagro
 dę na festiwalu FAMA w Świnoujściu\, II miejsce na festiwalu Śmiechu i
  Humoru Stand-up Mania w Zielonej Górze i III miejsce na Łódź Challang
 e Stand-up. \n\nJuliusz Sipika\nNiepełnosprawny komik z Łodzi. Zajmuje s
 ię stand-upem od trzech lat. W swoim programie łączy absurdalne przemy
 ślenia na temat świata z prozą dnia codziennego. Występował już kilk
 a razy w różnych miejscach podobno są ludzie\, którym to się podobał
 o. Lubi guacamole.\n\nBilety: 25zł / 35zł\n➡ https://standupbilety.pl/
 event/1203_stand-up-lublin-arkadiusz-jaksa-jakszewicz-juliusz-sipika#buyTi
 cket\n➡ https://www.kupbilecik.pl/imprezy/50907/Lublin/Stand-up+No+Limit
 s+prezentuje/\n--------------------------\n* Zakaz nagrywania występów.\
 n* Występ dla osób powyżej 16. roku życia.\n* Osoby przeszkadzające z
 ostaną wyproszone z imprezy bez możliwości ubiegania się o zwrot nale
 żności za bilety.
ATTACH;FMTTYPE=image/jpeg:https://night4u.pl/wp-content/uploads/2020/02/16
 7571_image_87328279_1561863070634259_8164756825678282752_n.jpg
CATEGORIES:lubelskie
LOCATION:SilenceClub\, Radziszewskiego 8\, Lublin\, 20-031\, Poland
GEO:51.246457;22.543797
X-APPLE-STRUCTURED-LOCATION;VALUE=URI;X-ADDRESS=Radziszewskiego 8\, Lublin\
 , 20-031\, Poland;X-APPLE-RADIUS=100;X-TITLE=SilenceClub:geo:51.246457,22.
 543797
END:VEVENT
BEGIN:VTIMEZONE
TZID:Europe/Warsaw
X-LIC-LOCATION:Europe/Warsaw
BEGIN:STANDARD
DTSTART:20191027T020000
TZOFFSETFROM:+0200
TZOFFSETTO:+0100
TZNAME:CET
END:STANDARD
END:VTIMEZONE
END:VCALENDAR