BEGIN:VCALENDAR
VERSION:2.0
PRODID:-//wp-events-plugin.com//7.2.3.1//EN
TZID:Europe/Warsaw
X-WR-TIMEZONE:Europe/Warsaw
BEGIN:VEVENT
UID:50883@night4u.pl
DTSTART;TZID=Europe/Warsaw:20210912T190000
DTEND;TZID=Europe/Warsaw:20210912T210000
DTSTAMP:20210908T144841Z
URL:https://night4u.pl/wydarzenia/stand-up-maciej-brudzewski-support/
SUMMARY:Stand-up Maciej Brudzewski + support
DESCRIPTION:Kochani\, już 12 września kolejny Stand-up w Klubie Park :-).
  Wystąpi Maciej Brudzewski! do zobaczenia !!!
ATTACH;FMTTYPE=image/jpeg:https://night4u.pl/wp-content/uploads/2021/08/18
 5722_image_235767620_4637532519603995_888398829527530359_n.jpg
CATEGORIES:mazowieckie
END:VEVENT
BEGIN:VTIMEZONE
TZID:Europe/Warsaw
X-LIC-LOCATION:Europe/Warsaw
BEGIN:DAYLIGHT
DTSTART:20210328T030000
TZOFFSETFROM:+0100
TZOFFSETTO:+0200
TZNAME:CEST
END:DAYLIGHT
END:VTIMEZONE
END:VCALENDAR