BEGIN:VCALENDAR
VERSION:2.0
PRODID:-//wp-events-plugin.com//7.2.3.1//EN
TZID:Europe/Warsaw
X-WR-TIMEZONE:Europe/Warsaw
BEGIN:VEVENT
UID:23903@night4u.pl
DTSTART;TZID=Europe/Warsaw:20190829T190000
DTEND;TZID=Europe/Warsaw:20190829T210000
DTSTAMP:20190803T005108Z
URL:https://night4u.pl/wydarzenia/stand-up-open-mic-standsaper/
SUMMARY:Stand-up open-mic "Standsaper"
DESCRIPTION:Cześć.  \nZapraszamy wszystkich na komediowy open-mic do pubu
  Publika. Zaczynamy w czwartek\, 29 sierpnia o 19:00.\nJeżeli chcesz spr
 óbować sił za mikrofonem lub przetestować swój najnowszy materiał na
 pisz śmiało do Kuby ) lub Karola (https://www.facebook.com/karolchyz). \
 n\nWejście za free\, wyjście płatne (zgodnie z Polską tradycją\, czyl
 i co łaska). Organizatorzy obiecują przewalić ten hajs na głupoty.
ATTACH;FMTTYPE=image/jpeg:https://night4u.pl/wp-content/uploads/2019/08/56
 375_image_67578779_101780681173723_3794571170422980608_n.jpg
CATEGORIES:lubelskie
LOCATION:PUBLIKA\, ul. Olejna 5\, Lublin\, 20-111\, Poland
GEO:51.24838;22.56684
X-APPLE-STRUCTURED-LOCATION;VALUE=URI;X-ADDRESS=ul. Olejna 5\, Lublin\, 20-
 111\, Poland;X-APPLE-RADIUS=100;X-TITLE=PUBLIKA:geo:51.24838,22.56684
END:VEVENT
BEGIN:VTIMEZONE
TZID:Europe/Warsaw
X-LIC-LOCATION:Europe/Warsaw
BEGIN:DAYLIGHT
DTSTART:20190331T030000
TZOFFSETFROM:+0100
TZOFFSETTO:+0200
TZNAME:CEST
END:DAYLIGHT
END:VTIMEZONE
END:VCALENDAR