BEGIN:VCALENDAR
VERSION:2.0
PRODID:-//wp-events-plugin.com//7.2.3.1//EN
TZID:Europe/Warsaw
X-WR-TIMEZONE:Europe/Warsaw
BEGIN:VEVENT
UID:36034@night4u.pl
DTSTART;TZID=Europe/Warsaw:20191201T190000
DTEND;TZID=Europe/Warsaw:20191201T210000
DTSTAMP:20191129T092217Z
URL:https://night4u.pl/wydarzenia/stand-up-radomsko-damian-skora-michal-ku
 tek/
SUMMARY:Stand-up Radomsko: Damian Skóra\, Michał Kutek
DESCRIPTION:Zapraszamy na wieczór stand-up comedy! Wystąpi:\n\nDamian Sk
 óra - osoba transwiekowa - dziecko (czasem starzec) zamknięty w ciele 29
 -latka. W ubiegłorocznym konkursie na najlepszego Damiana Skórę zajął
  II miejsce. Nagradzany również wielokrotnie za wybitne osiągnięcia w 
 języku łacińskim oraz w śpiewie niemym. Gdyby wcześniej zaczął robi
 ć stand-up to pewnie wystąpiłby w programie "Kuba Wojewódzki". Zdecydo
 wany przeciwnik kibli z półką. Zna takie słowa jak "predestynowany"\, 
 "onomastyka"\, "omasta" oraz "przepraszam"\, bo i zachować się potrafi. 
 Wiele innych też zna. Obecnie występuje z nowym programem "Kawa z wody p
 o kiełbasach"\, a w internecie do obejrzenia jest jego poprzednik\, pt. "
 Co?!"  \n\nMichał Kutek - prezentuje inteligentny humor i dobrze skonstru
 owane żarty. Cały czas szuka\, głównie siebie na scenie. Nie należy d
 o rozgorączkowanych\, biegających po scenie\, spoconych dzików. Człowi
 ek o prawniczej przeszłości i raczej bez jakiejś jaskrawej przyszłośc
 i. Funkcjonujący w oparach delikatnego rozczarowania sobą i światem bar
 dzo krytycznie podchodzi do wszystkiego co go spotyka i otacza. żyjący z
 godnie z zasadą “100 przepłyniętych basenów zasługuje na nagrodę z
  dziesięciu piw”. Przenikliwy i utalentowany. W komedii Michała dostrz
 eżecie\, że on nad każdym tematem\, o jakim pisze\, się pochyla\, zag
 łębia w niego\, żeby żart sięgnął do możliwie jak największej lic
 zby synaps\, pobudzając przy tym słuchacza.\n\nBilety dostępne on-line:
 \n➡ https://standupbilety.pl/event/950_stand-up-radomsko-damian-skora-mi
 cha-kutek#buyTicket\ncena: 25 zł (przedsprzedaż) / 35 zł (w dniu wydarz
 enia | na bramce)\n--------------------------\n*Zakaz nagrywania występó
 w.\n*Występ dla osób powyżej 18. roku życia.
ATTACH;FMTTYPE=image/jpeg:https://night4u.pl/wp-content/uploads/2019/11/97
 085_image_75223811_1457227637764470_4099846373396971520_o.jpg
CATEGORIES:łódzkie
LOCATION:Belfast\, Kasztelańska 3\, Radomsko\, 97-500\, Poland
GEO:51.059406;19.443251
X-APPLE-STRUCTURED-LOCATION;VALUE=URI;X-ADDRESS=Kasztelańska 3\, Radomsko\
 , 97-500\, Poland;X-APPLE-RADIUS=100;X-TITLE=Belfast:geo:51.059406,19.4432
 51
END:VEVENT
BEGIN:VTIMEZONE
TZID:Europe/Warsaw
X-LIC-LOCATION:Europe/Warsaw
BEGIN:STANDARD
DTSTART:20191027T020000
TZOFFSETFROM:+0200
TZOFFSETTO:+0100
TZNAME:CET
END:STANDARD
END:VTIMEZONE
END:VCALENDAR