BEGIN:VCALENDAR
VERSION:2.0
PRODID:-//wp-events-plugin.com//7.2.3.1//EN
TZID:Europe/Warsaw
X-WR-TIMEZONE:Europe/Warsaw
BEGIN:VEVENT
UID:6355@night4u.pl
DTSTART;TZID=Europe/Warsaw:20190209T183000
DTEND;TZID=Europe/Warsaw:20190209T223000
DTSTAMP:20190206T165019Z
URL:https://night4u.pl/wydarzenia/stand-up-show-2019-wloclawek/
SUMMARY:Stand-up Show 2019 - Włocławek
DESCRIPTION:STAND-UP SHOW 2019 - The Best of - to największe komediowe wyd
 arzenie w Polsce. \n\nCzołówka najlepszych komików w kraju na jednej sc
 enie i ponad 100  tysięcy widzów. 17 miast\, 18 występów i trasa\, kt
 óra z pewnością przejdzie do historii!  Wystąpią: Łukasz Lotek Lodko
 wskii\, Rafał Pacześ\, Katarzyna Piasecka\, Kacper Ruciński\, Rafał Ru
 tkowski\, Tomasz Boras Borkowski \, Michał Leja\, Adam Van Bendler.\n\nO 
 oprawę muzyczną zadba: B.O.K Trio: Paulo\,Kay\,Syluch.\n\nSzykujcie się
  na ponad dwie godziny rasowego stand-upu!\n\nPROGRAM PRZEZNACZONY DLA WID
 ZÓW DOROSŁYCH.\n\nIG: instargram.com/standupshow2019\n\n\nBILETY DO NABY
 CIA RÓWNIEŻ:\nebilet.pl\nEventim.pl\nKupBilecik.pl
ATTACH;FMTTYPE=image/jpeg:https://night4u.pl/wp-content/uploads/2019/02/18
 832_image_43473508_2382472955101484_7853174897021812736_o.jpg
CATEGORIES:kujawsko-pomorskie
END:VEVENT
BEGIN:VTIMEZONE
TZID:Europe/Warsaw
X-LIC-LOCATION:Europe/Warsaw
BEGIN:STANDARD
DTSTART:20181028T020000
TZOFFSETFROM:+0200
TZOFFSETTO:+0100
TZNAME:CET
END:STANDARD
END:VTIMEZONE
END:VCALENDAR