BEGIN:VCALENDAR
VERSION:2.0
PRODID:-//wp-events-plugin.com//7.2.3.1//EN
TZID:Europe/Warsaw
X-WR-TIMEZONE:Europe/Warsaw
BEGIN:VEVENT
UID:35882@night4u.pl
DTSTART;TZID=Europe/Warsaw:20191216T190000
DTEND;TZID=Europe/Warsaw:20191216T210000
DTSTAMP:20191216T044922Z
URL:https://night4u.pl/wydarzenia/stand-up-torun-wojtek-pieta-damian-skora
 /
SUMMARY:Stand-up Toruń: Wojtek Pięta\, Damian Skóra
DESCRIPTION:Zapraszamy na wieczór stand-up comedy! Wystąpią:\n\nWojtek P
 ięta powraca na scenę ze swoim nowym materiałem „Zrzutka na alimenty
 ”. Stresujące życie przyszłego męża przeplatane z historiami z niez
 apomnianych melanżów kawalera rozbawią was do łez. Wojtek nie pozostaw
 ia na sobie suchej nitki i bezkompromisowo opowiada o swoich przeżyciach.
  To wszystko i jeszcze więcej do usłyszenia na występach w twoim mieśc
 ie!\n\nDamian Skóra osoba transwiekowa - dziecko (czasem starzec) zamkni
 ęty w ciele 29-latka. W ubiegłorocznym konkursie na najlepszego Damiana 
 Skórę zajął II miejsce. Nagradzany również wielokrotnie za wybitne o
 siągnięcia w języku łacińskim oraz w śpiewie niemym. Gdyby wcześnie
 j zaczął robić stand-up to pewnie wystąpiłby w programie "Kuba Wojew
 ódzki". Zdecydowany przeciwnik kibli z półką. Zna takie słowa jak "pr
 edestynowany"\, "onomastyka"\, "omasta" oraz "przepraszam"\, bo i zachowa
 ć się potrafi. Wiele innych też zna. Obecnie występuje z nowym program
 em "Kawa z wody po kiełbasach"\, a w internecie do obejrzenia jest jego p
 oprzednik\, pt. "Co?!"  \n\nGospodarz sceny: Marcin Fala Falkiewicz Stand-
 up\n\nBilety\ncena: 25 zł (przedsprzedaż) / 35 zł (w dniu wydarzenia | 
 na bramce)\n➡ https://standupbilety.pl/event/935_stand-up-toru-wojtek-pi
 ta-damian-skora#buyTicket\n➡ http://bit.ly/32my2mo\n--------------------
 ------\n*Zakaz nagrywania występów.\n*Występ dla osób powyżej 18. rok
 u życia.
ATTACH;FMTTYPE=image/jpeg:https://night4u.pl/wp-content/uploads/2019/11/95
 483_image_76651708_1447250048762229_3896466121309552640_n.jpg
CATEGORIES:kujawsko-pomorskie
LOCATION:NRD Klub\, Browarna 6\, Torun\, 87-100\, Poland
GEO:53.011128;18.612081
X-APPLE-STRUCTURED-LOCATION;VALUE=URI;X-ADDRESS=Browarna 6\, Torun\, 87-100
 \, Poland;X-APPLE-RADIUS=100;X-TITLE=NRD Klub:geo:53.011128,18.612081
END:VEVENT
BEGIN:VTIMEZONE
TZID:Europe/Warsaw
X-LIC-LOCATION:Europe/Warsaw
BEGIN:STANDARD
DTSTART:20191027T020000
TZOFFSETFROM:+0200
TZOFFSETTO:+0100
TZNAME:CET
END:STANDARD
END:VTIMEZONE
END:VCALENDAR