BEGIN:VCALENDAR
VERSION:2.0
PRODID:-//wp-events-plugin.com//7.2.3.1//EN
TZID:Europe/Warsaw
X-WR-TIMEZONE:Europe/Warsaw
BEGIN:VEVENT
UID:42462@night4u.pl
DTSTART;TZID=Europe/Warsaw:20200121T200000
DTEND;TZID=Europe/Warsaw:20200121T220000
DTSTAMP:20200121T110124Z
URL:https://night4u.pl/wydarzenia/stand-up-w-bunkrze-daniel-midas-open-mic
 /
SUMMARY:Stand-up w Bunkrze: Daniel Midas + OPEN MIC
DESCRIPTION:Stand-up to formuła komediowa\, która podbija Polskę w zawro
 tnym tempie. Jeden człowiek. Jeden mikrofon. I milion sposobów na to\, 
 żeby rozbawić widza.\n\n21 stycznia zapraszamy na występ człowieka\, k
 tóry zaserwuje Wam komediowe złoto. Nic dziwnego - nazwisko zobowiązuje
 .\n\nWystąpi:\n\nDaniel Midas - Człowiek który zamienia wszystko w żar
 t. Finalista drugiej edycji Roast Battle w Warszawie. Lubi bawić publiczn
 ość i wchodzić z nią w interakcje. Przygotujcie się na ostre żarty i
  gry słowne. Powiedzieć\, że ten gość ma gadane to tak\, jak by nie p
 owiedzieć o nim nic. Zawsze prezentuje żarty z najwyższej półki\, dos
 łownie z najwyższej\, bo ma 2 metry wzrostu. \n\nPoza gośćmi wieczoru 
 wystąpią trójmiejscy (i nie tylko) komicy\, którym udostępnimy otwart
 y mikrofon (jeśli chciałeś kiedyś zobaczyć jak to jest\, lub sprawdzi
 ć nowy materiał - to Twoja okazja!)\, a całość poprowadzi nietuzinkow
 y Arkadiusz Pan Pawłowski\, postać powszechnie znana\, sceniczny śmiesz
 ek\, internetowy heheszek\, człowiek-suchar i jednoosobowa karuzela śmie
 chu. Do tego gruby aż miło\, nic tylko ściskać za poliki.\n\nDo zobacz
 enia więc już 21 stycznia w Bunkier. Wpadajcie i bawcie się razem z nam
 i!\n\nWspółorganizatorem wydarzenia jest marka Marmel Events.\n\n——
 ————————————————————————\n
 \nKiedy? 21.01.2020 r godz. 20:00\nGdzie? Bunkier\, ul. Olejarna 3\, Gdań
 sk\nCena? 15 zł (sprzedaż internetowa) oraz 20 zł (na miejscu w dniu wy
 stępu)\n\nLink do sprzedaży internetowej - https://www.kupbilecik.pl/imp
 rezy/47527/Gda%C5%84sk/Stand-up+w+Bunkrze/
ATTACH;FMTTYPE=image/jpeg:https://night4u.pl/wp-content/uploads/2020/01/13
 4007_image_81231411_2704471756299677_798543375056764928_o.jpg
CATEGORIES:pomorskie
LOCATION:Bunkier\, Olejarna 3\, Gdansk\, 80-843\, Poland
GEO:54.35446;18.65466
X-APPLE-STRUCTURED-LOCATION;VALUE=URI;X-ADDRESS=Olejarna 3\, Gdansk\, 80-84
 3\, Poland;X-APPLE-RADIUS=100;X-TITLE=Bunkier:geo:54.35446,18.65466
END:VEVENT
BEGIN:VTIMEZONE
TZID:Europe/Warsaw
X-LIC-LOCATION:Europe/Warsaw
BEGIN:STANDARD
DTSTART:20191027T020000
TZOFFSETFROM:+0200
TZOFFSETTO:+0100
TZNAME:CET
END:STANDARD
END:VTIMEZONE
END:VCALENDAR