BEGIN:VCALENDAR
VERSION:2.0
PRODID:-//wp-events-plugin.com//7.2.3.1//EN
TZID:Europe/Warsaw
X-WR-TIMEZONE:Europe/Warsaw
BEGIN:VEVENT
UID:41535@night4u.pl
DTSTART;TZID=Europe/Warsaw:20200310T190000
DTEND;TZID=Europe/Warsaw:20200310T203000
DTSTAMP:20200310T174509Z
URL:https://night4u.pl/wydarzenia/stand-up-w-kawonie-abelard-giza/
SUMMARY:Stand-up w Kawonie - Abelard Giza
DESCRIPTION:Kolejny wieczór nowego sezonu Stand-up w Kawonie \nWraca do na
 s Abelard Giza z najnowszym programie "PINIATA"\n_________________________
 _____________________________\n\nAbelard Giza\nUrodzony w 1980 r. w Gdańs
 ku. Stand-uper\, scenarzysta\, autor tekstów komediowych. Lider Kabaretu 
 Limo (1999-2014) z którym zdobył liczne nagrody i popularność. Twórca
  programów stand-upowych "Proteus Vulgaris"\, "Ludzie\, trzymajcie kapelu
 sze"\, "Numer 3" oraz serialu "Kryzys".  Aktualnie jeździ z programem "Pi
 niata".\n+ wystąpi również - Mateusz Petryka oraz Śliwa\n\n\nBilety: 5
 0 zł\nhttps://www.kupbilecik.pl/imprezy/47549/Zielona+Góra/ABELARD+GIZA\
 n\n* 18+ Występ tylko dla widzów pełnoletnich \n* Nagrywanie występu w
  formie audio i wideo jest zabronione\n* Osoby nietrzeźwe i przeszkadzaj
 ące będą wypraszane bez możliwości ubiegania się zwrotu za bilet.\n*
 Handel biletami w celu zysku jest przestępstwem (Art. 133 kw)\n----------
 -------------------------------------------------------------------------\
 nKolejny wieczór 5-go sezonu STAND-UP w Kawonie.\nRaz na miesiąc zielono
 górski Kawon zamieni się w klub komediowy. W atmosferze absolutnego luzu
  i braku hamulców spędzimy czas z najlepszymi polskimi komikami. Niektó
 rych znacie doskonale\, a niektórych po prostu musicie poznać.\n*Impreza
  przeznaczona dla widzów dorosłych.\nGospodarzem sceny jest Janusz Pietr
 uszka
ATTACH;FMTTYPE=image/jpeg:https://night4u.pl/wp-content/uploads/2020/01/13
 0249_image_81235776_2231575226942273_534556517332942848_o.jpg
CATEGORIES:lubuskie
LOCATION:Kawon Piwnica Artystyczna\, Zamkowa 5\, Zielona Góra\, 65-086\, P
 oland
GEO:51.941922;15.502279
X-APPLE-STRUCTURED-LOCATION;VALUE=URI;X-ADDRESS=Zamkowa 5\, Zielona Góra\,
  65-086\, Poland;X-APPLE-RADIUS=100;X-TITLE=Kawon Piwnica Artystyczna:geo:
 51.941922,15.502279
END:VEVENT
BEGIN:VTIMEZONE
TZID:Europe/Warsaw
X-LIC-LOCATION:Europe/Warsaw
BEGIN:STANDARD
DTSTART:20191027T020000
TZOFFSETFROM:+0200
TZOFFSETTO:+0100
TZNAME:CET
END:STANDARD
END:VTIMEZONE
END:VCALENDAR