BEGIN:VCALENDAR
VERSION:2.0
PRODID:-//wp-events-plugin.com//7.2.3.1//EN
TZID:Europe/Warsaw
X-WR-TIMEZONE:Europe/Warsaw
BEGIN:VEVENT
UID:16361@night4u.pl
DTSTART;TZID=Europe/Warsaw:20190612T200000
DTEND;TZID=Europe/Warsaw:20190612T220000
DTSTAMP:20190516T203742Z
URL:https://night4u.pl/wydarzenia/stand-up-w-zgorzelcu-janek-wolanczyk-z-n
 owym-programem/
SUMMARY:Stand-Up w Zgorzelcu - Janek Wolańczyk z nowym programem
DESCRIPTION:Kochani!!! Zgorzelec i okolice!! :)\nJuż 12 czerwca zawita do 
 Was Janek Wolańczyk ze swoim najnowszym programem! :)\n\nJANEK WOLAŃCZYK
  - je je jedyny w Polsce jąkający się Stand-Up'er. Na scenie jest od 20
 14 roku. Jeden z najbardziej energiczniejszych komików w naszym kraju. Op
 owieściami o rodzinie\, swojej dziewczynie\, szkole i o swoich poprzednic
 h pracach sprawia że publiczność wraz z nim utożsamia się z historiam
 i co tworzy niesamowitą atmosferę. Występował w Comedy Central oraz uc
 zestniczył w wielu audycjach radiowych. Uwielbia swoje miasto rodzinne kt
 órym jest Wrocław.\n\nDo zobaczenia już 12 czerwca :)
ATTACH;FMTTYPE=image/jpeg:https://night4u.pl/wp-content/uploads/2019/05/40
 068_image_60177770_2209437462474482_4744961576631533568_n.jpg
CATEGORIES:dolnośląskie
LOCATION:Klub Kosmos Zgorzelec\, Armii Krajowej\, 52A\, Zgorzelec\, 59-900\
 , Poland
GEO:51.15289;15.02758
X-APPLE-STRUCTURED-LOCATION;VALUE=URI;X-ADDRESS=Armii Krajowej\, 52A\, Zgor
 zelec\, 59-900\, Poland;X-APPLE-RADIUS=100;X-TITLE=Klub Kosmos Zgorzelec:g
 eo:51.15289,15.02758
END:VEVENT
BEGIN:VTIMEZONE
TZID:Europe/Warsaw
X-LIC-LOCATION:Europe/Warsaw
BEGIN:DAYLIGHT
DTSTART:20190331T030000
TZOFFSETFROM:+0100
TZOFFSETTO:+0200
TZNAME:CEST
END:DAYLIGHT
END:VTIMEZONE
END:VCALENDAR