BEGIN:VCALENDAR
VERSION:2.0
PRODID:-//wp-events-plugin.com//7.2.3.1//EN
TZID:Europe/Warsaw
X-WR-TIMEZONE:Europe/Warsaw
BEGIN:VEVENT
UID:4996@night4u.pl
DTSTART;TZID=Europe/Warsaw:20190224T200000
DTEND;TZID=Europe/Warsaw:20190224T223000
DTSTAMP:20190124T163126Z
URL:https://night4u.pl/wydarzenia/stand-up-walbrzych-vol-8-mateusz-socha-k
 rol-piaskownicy/
SUMMARY:Stand-up Wałbrzych vol.8 Mateusz Socha - "Król piaskownicy"
DESCRIPTION:Wałbrzych! Pora na kolejną dawkę śmiechu. Tym razem na desk
 ach A'Propo's  swój godzinny program zaprezentuje wam Mateusz Socha. Cał
 ość poprowadzi Ryszard Mazur\n\nBilety do nabycia na Kupbilecik.pl lub w
  lokalu\, cena 30 zł\, w dniu imprezy 35zł\n\nMateusz Socha - człowiek\
 , który zrobił coś szalonego. Mimo krótkiego\, zaledwie dwuletniego do
 świadczenia na scenie\, Mateuszowi udało się dotrzeć do bardzo szeroki
 ego grona odbiorców. Sukces odniósł nie bez powodu - charyzma i zaraźl
 iwy śmiech zjednują mu publikę. Na scenie zobaczycie człowieka\, któr
 y wyspecjalizował się w tworzeniu wielowątkowych historii\, które podz
 ielone są bardzo licznymi\, coraz głębszymi dygresjami. Nie obawiajcie 
 się jednak zaginięcia\, po to macie Matiego\, żeby Mati Was przez te op
 owieści przeprowadził. \n\nNa supporcie pojawi się Adam Gajda \nWydarze
 nie przeznaczone dla widzów dorosłych
ATTACH;FMTTYPE=image/jpeg:https://night4u.pl/wp-content/uploads/2019/01/15
 830_image_50474516_309889809869673_2692846315934580736_n.jpg
CATEGORIES:dolnośląskie
LOCATION:A PROPOS\, ul.Wieniawskiego 82\, Wałbrzych\, 58-309\, Poland
GEO:50.817263;16.276605
X-APPLE-STRUCTURED-LOCATION;VALUE=URI;X-ADDRESS=ul.Wieniawskiego 82\, Wałb
 rzych\, 58-309\, Poland;X-APPLE-RADIUS=100;X-TITLE=A PROPOS:geo:50.817263,
 16.276605
END:VEVENT
BEGIN:VTIMEZONE
TZID:Europe/Warsaw
X-LIC-LOCATION:Europe/Warsaw
BEGIN:STANDARD
DTSTART:20181028T020000
TZOFFSETFROM:+0200
TZOFFSETTO:+0100
TZNAME:CET
END:STANDARD
END:VTIMEZONE
END:VCALENDAR