BEGIN:VCALENDAR
VERSION:2.0
PRODID:-//wp-events-plugin.com//7.2.3.1//EN
TZID:Europe/Warsaw
X-WR-TIMEZONE:Europe/Warsaw
BEGIN:VEVENT
UID:6875@night4u.pl
DTSTART;TZID=Europe/Warsaw:20190225T203000
DTEND;TZID=Europe/Warsaw:20190225T223000
DTSTAMP:20190210T154445Z
URL:https://night4u.pl/wydarzenia/stand-up-zalewski-autorski-gadowski-pope
 k-%e2%80%a2-wroclaw/
SUMMARY:Stand-up: Zalewski/autorski: Gadowski/Popek • Wrocław
DESCRIPTION:Zapraszamy na kolejny wieczór ze stand-upem do Nietoty\, tym r
 azem swoje solowe programy zaprezentuje dwóch topowych komików z krańco
 wej skali scenicznej ekspresji\, ale na podobnym\, wysokim miejscu listy n
 ajlepszych wykonawców w Polsce.\nCałość poprowadzi oczywiście:\nBarto
 sz Zalewski\nWrocławski komik\, który sprzedał się w Warszawie dla zar
 abiania pieniędzy\, powraca do Wrocławia z autorską sceną stand-upową
 . Co miesiąc zaprasza razem ze Stand-up Polska do klimatycznego klubu Nie
 tota\, by zaprezentować solowe materiały najciekawszych twórców komedi
 i na żywo. Całość opatrzona jest interesującym supportem oraz autorsk
 im prowadzeniem\, więc jeśli szukacie odrobinę więcej w stand-upie\, w
 ymagających idei i zadumy nad losem\, to szukajcie dalej\, bo mimo wszyst
 ko będzie to tylko wieczór z komedią. Ale dobrą\, to się staramy prze
 kazać. Serio. Żarty na serio. \n\nWystąpią:\n\nPiotr Popek- znawca kom
 edii doceniany przez znawców komedii\, Piotr zaczynał w Bydgoszczy\, ter
 az rezyduje w Warszawie. Mistrz doboru słowa\, jego refleksyjna postawa i
  natura na pewno przypadnie do gustu wytrawnym widzom na naszym ekskluzywn
 ym cyklu (tylko żeby nie wpadła znowu ekipa z Poświętnego).\n\nDarek G
 adowski - koszaliński lord relaksu\, jego niezmącenie dobra energia eman
 uje świetlistą łuną\, skrywając jednocześnie regularne wybuchy frust
 racji. Na styku takiego ognia i wody tworzy syczy wspaniały stand-up wsp
 ółczesnego człowieka\, prawdziwa feeria barw i odcieni.\n\n\n\n25 luteg
 o 2019r. (poniedziałek) godz.20:30 \nNietota\nul. Kazimierza Wielkiego 50
 \, Wrocław\n\n\n\n\n-----------------------------------------------------
 ---\nBilety:\n30zł  dostępne na KupBilecik.pl\n\n\n\n\n-----------------
 ----------------------------------------\n\n\nProgram przeznaczony dla wid
 zów dorosłych.
ATTACH;FMTTYPE=image/jpeg:https://night4u.pl/wp-content/uploads/2019/02/20
 051_image_51426768_285005942194610_7284533184220364800_o.jpg
CATEGORIES:dolnośląskie
LOCATION:Nietota\, ul.Kazimierza Wielkiego 50\, Wroclaw\, 50-078\, Poland
GEO:51.107699;17.031693
X-APPLE-STRUCTURED-LOCATION;VALUE=URI;X-ADDRESS=ul.Kazimierza Wielkiego 50\
 , Wroclaw\, 50-078\, Poland;X-APPLE-RADIUS=100;X-TITLE=Nietota:geo:51.1076
 99,17.031693
END:VEVENT
BEGIN:VTIMEZONE
TZID:Europe/Warsaw
X-LIC-LOCATION:Europe/Warsaw
BEGIN:STANDARD
DTSTART:20181028T020000
TZOFFSETFROM:+0200
TZOFFSETTO:+0100
TZNAME:CET
END:STANDARD
END:VTIMEZONE
END:VCALENDAR