BEGIN:VCALENDAR
VERSION:2.0
PRODID:-//wp-events-plugin.com//7.2.3.1//EN
TZID:Europe/Warsaw
X-WR-TIMEZONE:Europe/Warsaw
BEGIN:VEVENT
UID:10457@night4u.pl
DTSTART;TZID=Europe/Warsaw:20190324T200000
DTEND;TZID=Europe/Warsaw:20190324T223000
DTSTAMP:20190318T200156Z
URL:https://night4u.pl/wydarzenia/standup-comedy-in-english-headliner-show
 -zackarias-branzell/
SUMMARY:Standup Comedy in English - Headliner Show - Zackarias Branzell
DESCRIPTION:Kraków Standup Comedy welcomes back Zackarias Branzell !!\n\nZ
 ackarias is a part of the new wave of European comedians proving that Stan
 d Up comedy has become truly international.\nBorn in Sweden\, living in Be
 rlin and working all around Europe.\n\nTouring with his show Rambling Prob
 lem. A collection of stories and jokes that changes every night in convers
 ation with the audience.\n\nIt's silly at times and sometimes darker than 
 you would expect form a guy that smiles so much.\n\nThis weeks Headline Sh
 ow will be hosted by Mark Wawrzyniak and features supporting comics Justin
  Brown and André San Miguel !!\n\nVenue: Szpitalna 1\nDate & Time: Sunday
  24th March at 20:00\nTickets: 15zł/10zł with Student ID
ATTACH;FMTTYPE=image/jpeg:https://night4u.pl/wp-content/uploads/2019/03/27
 575_image_54257085_2366323300086542_3728507920506159104_n.jpg
CATEGORIES:małopolskie
LOCATION:Szpitalna 1\, Szpitalna 1\, Kraków\, 31-041\, Poland
GEO:50.06186;19.94065
X-APPLE-STRUCTURED-LOCATION;VALUE=URI;X-ADDRESS=Szpitalna 1\, Kraków\, 31-
 041\, Poland;X-APPLE-RADIUS=100;X-TITLE=Szpitalna 1:geo:50.06186,19.94065
END:VEVENT
BEGIN:VTIMEZONE
TZID:Europe/Warsaw
X-LIC-LOCATION:Europe/Warsaw
BEGIN:STANDARD
DTSTART:20181028T020000
TZOFFSETFROM:+0200
TZOFFSETTO:+0100
TZNAME:CET
END:STANDARD
END:VTIMEZONE
END:VCALENDAR