BEGIN:VCALENDAR
VERSION:2.0
PRODID:-//wp-events-plugin.com//7.2.3.1//EN
TZID:Europe/Warsaw
X-WR-TIMEZONE:Europe/Warsaw
BEGIN:VEVENT
UID:479@night4u.pl
DTSTART;TZID=Europe/Warsaw:20181225T220300
DTEND;TZID=Europe/Warsaw:20181226T050300
DTSTAMP:20181217T153202Z
URL:https://night4u.pl/wydarzenia/stara-wiara-25-grudnia-swiateczny-oldsko
 olowy-balet/
SUMMARY:Stara Wiara - 25 grudnia - Świąteczny Oldskoolowy Balet
DESCRIPTION:STARA   WIARA\nтакая традиция сто процен
 тов oldskool\n25.12. 2018 - WTOREK\nSoda Underground Stage\, Plac Komun
 y Paryskiej 6\nSTART : 22.00\n\n\nDJ INKEE\nYAKUZ\n3 WAY\nSHAKY\nPATROL\nM
 ORNING CHANGE\nMr.Q\nZergu\n\nit looks bad to us\n\nMC LEO\n\nJubilee dj I
 nkee 25 Jahre auf der Bühne\n\n\nWJAZD \, 20 ZŁ
ATTACH;FMTTYPE=image/jpeg:https://night4u.pl/wp-content/uploads/2018/12/46
 45_image_46787683_1108076856041145_3461450667971837952_n.jpg
CATEGORIES:łódzkie
LOCATION:SODA Underground Stage\, Plac Komuny Paryskiej 6\, Łódź\, 90-00
 7\, Poland
GEO:51.76518;19.45941
X-APPLE-STRUCTURED-LOCATION;VALUE=URI;X-ADDRESS=Plac Komuny Paryskiej 6\, 
 Łódź\, 90-007\, Poland;X-APPLE-RADIUS=100;X-TITLE=SODA Underground Stag
 e:geo:51.76518,19.45941
END:VEVENT
BEGIN:VTIMEZONE
TZID:Europe/Warsaw
X-LIC-LOCATION:Europe/Warsaw
BEGIN:STANDARD
DTSTART:20181028T020000
TZOFFSETFROM:+0200
TZOFFSETTO:+0100
TZNAME:CET
END:STANDARD
END:VTIMEZONE
END:VCALENDAR