BEGIN:VCALENDAR
VERSION:2.0
PRODID:-//wp-events-plugin.com//7.2.3.1//EN
TZID:Europe/Warsaw
X-WR-TIMEZONE:Europe/Warsaw
BEGIN:VEVENT
UID:9408@night4u.pl
DTSTART;TZID=Europe/Warsaw:20190323T233000
DTEND;TZID=Europe/Warsaw:20190324T070000
DTSTAMP:20190314T205911Z
URL:https://night4u.pl/wydarzenia/stardust-vol-4-by-lulu-malina/
SUMMARY:Stardust vol. 4 by LuLu Malina
DESCRIPTION:SMOLNA PATIO\n--------------\nSTARDUST VOL. 4 by LuLu Malina ?\
 n\n✨ Wasza niezawodna Pani Kapitan\, LuLu Malina\, zaprasza na kosmiczny
  lot pełen wrażeń! \nCo-pilotami tej wyjątkowej nocy będą:\n\n? Mitc
 h\, rezydent poznańskiego Schron'u\, założyciel ATR Kollektiv. Organiza
 tor leśnego rave'u Agregatik oraz cyklu Garden of God\, na którym wystą
 pili m.in. tacy artyści jak Sascha Cawa\, Nico Stojan\, czy Rey & Kjavik.
  \n\n? Ane\, wychowana na techno ze stajni Tresora i house lat \n90-tych 
 łączy w swoich setach detroit house\, deep-house oraz deep-tech. Od zaws
 ze zafascynowana  tłustym technicznym bassem oraz melodyjnymi etnicznymi 
 motywami i głębokimi wokalami. \nMa na koncie trzy EP'ki oraz remix dla 
 Ayako Mori czy BMD. \nW 2018 wydała EP'kę z siostrami Kępisty „Lazy d
 ay”\, w której łączą muzykę elektroniczną z akustyczną. \n\n✨ N
 asz techno statek startuje z kosmodromu na Patio i orbituje pośród barwn
 ych planet i gwiazd aż do samego rana! Nie straszna nam żadna supernowa\
 , bo to my jesteśmy muzyczną falą uderzeniową\, pełną elektronicznyc
 h dźwięków i pozytywnych emocji. Zapinamy pasy i lecimy!\n\n✨ Pamięt
 aj o błyszczących\, srebrnych elementach stroju a nie straszny Ci będzi
 e międzygwiazdowy pył\, który ponownie otuli całe Patio.\n\n✨ Katali
 zator Twojej energii:\n\nLuLu Malina\nFB: https://www.facebook.com/LuLuWar
 saw/\nMC: https://www.mixcloud.com/lulumalina/\n\nMitch\nFB: https://www.f
 acebook.com/ravingmitch/\nMC: https://www.mixcloud.com/ravingmitch/\n\n? W
 armup:\nAne\nFB: https://www.facebook.com/ane.xlnt/\nSC: https://soundclou
 d.com/anexlnt_crew\n\n--------------\nwww.smolna38.com\n\nrules:\nno pre-s
 ale\nno photo policy\ndoorman\n\n23.03.2019 | 23:30 \n▬▬▬▬▬▬
 ▬▬▬▬▬▬▬▬▬▬▬▬▬▬▬▬▬▬▬▬▬▬▬▬
 ▬▬▬▬▬▬▬▬▬▬▬▬▬▬▬▬▬
ATTACH;FMTTYPE=image/jpeg:https://night4u.pl/wp-content/uploads/2019/03/25
 414_image_54524563_2671998772815182_5711606780493037568_o.jpg
CATEGORIES:mazowieckie
LOCATION:Smolna\, Smolna 38\, Warsaw\, 00-375\, Poland
GEO:52.23265;21.02166
X-APPLE-STRUCTURED-LOCATION;VALUE=URI;X-ADDRESS=Smolna 38\, Warsaw\, 00-375
 \, Poland;X-APPLE-RADIUS=100;X-TITLE=Smolna:geo:52.23265,21.02166
END:VEVENT
BEGIN:VTIMEZONE
TZID:Europe/Warsaw
X-LIC-LOCATION:Europe/Warsaw
BEGIN:STANDARD
DTSTART:20181028T020000
TZOFFSETFROM:+0200
TZOFFSETTO:+0100
TZNAME:CET
END:STANDARD
END:VTIMEZONE
END:VCALENDAR