BEGIN:VCALENDAR
VERSION:2.0
PRODID:-//wp-events-plugin.com//7.2.3.1//EN
TZID:Europe/Warsaw
X-WR-TIMEZONE:Europe/Warsaw
BEGIN:VEVENT
UID:11716@night4u.pl
DTSTART;TZID=Europe/Warsaw:20190422T190000
DTEND;TZID=Europe/Warsaw:20190422T230000
DTSTAMP:20190403T193524Z
URL:https://night4u.pl/wydarzenia/starified-ru-adaen-ru-european-tour-2019
 /
SUMMARY:Starified [RU] + Adaen [RU] European Tour 2019
DESCRIPTION:STARIFIED and Adaen will perform for the first time in Bydgoszc
 z on April 22 @ Estrada stagebar! \nDo not miss the show!\n\nSTARIFIED (Mo
 scow\, RUS):\n(rock\, vintage\, progressive stoner):\nA Moscow based power
 -trio with a singing drummer. Their shows are known for mad expression and
  glamourous entourage.\nSTARIFIED had two successful Russian tours\, relea
 sed one single\, a self titled LP\, opened for John Garcia and now they ar
 e presenting their new album "Feathers" (CSBR Records).\nSTARIFIED mix var
 ious styles and experiment with their approach to music and sound. The ban
 d is influenced by 70’s rock monsters: Led Zeppelin\, Queen\, Black Sabb
 ath\, etc. along with modern masters like Foo Fighters\, Queens of the Sto
 neage and Jack White. \nEuropean tour 2019 is the band’s first appearanc
 e outside of Russia. \nLINKS:\nFB:\nhttps://www.facebook.com/starifiedband
 \nBUY ALBUM:\nhttps://band.link/feathers\nDON LOCO (LIVE VIDEO):\nhttps://
 youtu.be/f4miYWE3ZoI\nFEATHERS (LIVE VIDEO):\nhttps://youtu.be/fJwEL3ss2sM
 \nANTI REBEL (LIVE VIDEO):\nhttps://youtu.be/N6cQL_ITAzw\n\nAdaen (Moscow 
 RUS):\nADAEN is a Moscow based prog rock band. The band is noticed with th
 eir catchy songs\, mind blowing loud punk style shows and their passion fo
 r touring. They've toured a lot in Russia\, also in Belarus\, Ukraine\, Ea
 st Europe\, China and that is just the beginning. ADAEN released 3 full le
 ngth albums and 4 EPs\, played as headliners and as a support act for The 
 Fall Of Troy (mutual Russian tour)\, Tesseract\, The Ocean\, Agent Fresco\
 , Riverside and others.\nADAEN has their own unique melody in the songs. O
 nes could hear the influence of Muse\, The Mars Volta and Nirvana\, some p
 unk notes are clearly heard too. The band plays very loud and emotionally 
 so ones who have seen them live always want to see their show again. The a
 udience of ADAEN is constantly growing in Russia\, Asia and Europe\, where
  the band is touring in April 2019.\nLINKS:\nFB:\nhttps://facebook.com/ada
 enband\nBUY ON BANDCAMP:\nhttps://adaenband.bandcamp.com\nMOTHER (LIVE):\n
 https://youtu.be/YwZ5c8DALH4\nTERRY (LIVE):\nhttps://youtu.be/MrFhIZjejpE
ATTACH;FMTTYPE=image/jpeg:https://night4u.pl/wp-content/uploads/2019/04/30
 114_image_54361689_1555603281239379_7097397572188241920_o.jpg
CATEGORIES:kujawsko-pomorskie
LOCATION:Teatro Cubano Krakow - Resto & Rum Bar\, Jagiellońska 10\, Krakó
 w\, 31-010\, Poland
GEO:50.062036;19.934646
X-APPLE-STRUCTURED-LOCATION;VALUE=URI;X-ADDRESS=Jagiellońska 10\, Kraków\
 , 31-010\, Poland;X-APPLE-RADIUS=100;X-TITLE=Teatro Cubano Krakow - Resto 
 & Rum Bar:geo:50.062036,19.934646
END:VEVENT
BEGIN:VTIMEZONE
TZID:Europe/Warsaw
X-LIC-LOCATION:Europe/Warsaw
BEGIN:DAYLIGHT
DTSTART:20190331T030000
TZOFFSETFROM:+0100
TZOFFSETTO:+0200
TZNAME:CEST
END:DAYLIGHT
END:VTIMEZONE
END:VCALENDAR