BEGIN:VCALENDAR
VERSION:2.0
PRODID:-//wp-events-plugin.com//7.2.3.1//EN
TZID:Europe/Warsaw
X-WR-TIMEZONE:Europe/Warsaw
BEGIN:VEVENT
UID:20385@night4u.pl
DTSTART;TZID=Europe/Warsaw:20190629T220000
DTEND;TZID=Europe/Warsaw:20190630T060000
DTSTAMP:20190629T105515Z
URL:https://night4u.pl/wydarzenia/stars-on-stage-marc-van-linden/
SUMMARY:Stars On Stage: Marc Van Linden !
DESCRIPTION:Najbardziej wyjątkowa sobota w mieście i świetny gość z Ni
 emiec na naszej scenie !\nNieprzerwanie\, od wielu\, wielu lat  topowy art
 ysta klubowego życia !\nMarc van Linden\, kilka miesięcy temu zagrał u 
 nas FENOMENALNEGO seta\, od tamtego czasu często pytacie o jego kolejny w
 ystęp. W tę sobotę spełniamy waszą prośbę.W tę sobotę powtórka !
  Nastawcie się na niesamowity klubowy występ człowieka\, przy setach kt
 órego wychowało się już kilka pokoleń klubowiczów ! \n\nStage: Marc 
 van Linden\nSupport: DJ ROKO\, DJ BEN\, \n\nFoo Foo Bar Stage: DJ MARTINEZ
  \n\nStart 22:01 \nbilety 20 zł\n\nDoor Selection ! \n\nAfter Party w Foo
  Foo Bar !\n\nPowietrze zadrży ultra zawodowo !
ATTACH;FMTTYPE=image/jpeg:https://night4u.pl/wp-content/uploads/2019/06/48
 934_image_65313256_2532928786718234_3193148686670495744_o.jpg
CATEGORIES:łódzkie
LOCATION:Lordi's Club\, Piotrkowska 102\, Łódź\, 90-010\, Poland
GEO:51.765169;19.45859
X-APPLE-STRUCTURED-LOCATION;VALUE=URI;X-ADDRESS=Piotrkowska 102\, Łódź\,
  90-010\, Poland;X-APPLE-RADIUS=100;X-TITLE=Lordi's Club:geo:51.765169,19.
 45859
END:VEVENT
BEGIN:VTIMEZONE
TZID:Europe/Warsaw
X-LIC-LOCATION:Europe/Warsaw
BEGIN:DAYLIGHT
DTSTART:20190331T030000
TZOFFSETFROM:+0100
TZOFFSETTO:+0200
TZNAME:CEST
END:DAYLIGHT
END:VTIMEZONE
END:VCALENDAR