BEGIN:VCALENDAR
VERSION:2.0
PRODID:-//wp-events-plugin.com//7.2.3.1//EN
TZID:Europe/Warsaw
X-WR-TIMEZONE:Europe/Warsaw
BEGIN:VEVENT
UID:46667@night4u.pl
DTSTART;TZID=Europe/Warsaw:20200424T210000
DTEND;TZID=Europe/Warsaw:20200425T000000
DTSTAMP:20200423T115603Z
URL:https://night4u.pl/wydarzenia/startrap-festiwal-3-spiralagliwice/
SUMMARY:StartRap Festiwal 3 / Spirala\,Gliwice
DESCRIPTION:24.04.2020 to data\, którą powinniście już teraz zapamięta
 ć i zarezerwować ją na wydarzenie\, które na nowo określi pojęcie ś
 wieżości w polskim rapie i trapie. \n\nTo już trzecia edycja StartRap F
 estivalu\, który tym razem będzie jeszcze lepszy\, jeszcze głośniejszy
  i tak gorący\, że przeskoczy miarę!\n\nNa scenie pojawią się najbard
 ziej obiecujący zawodnicy nowego polskiego rapu. \n\nGUGU GANG\nNath\nWHI
 TE WIDOW\nWIFI KLAN\nZibex\n\nBilety:\n\n ̶I̶ ̶P̶U̶L̶A̶ : WYPRZEDAN
 A\n ̶I̶I̶ ̶P̶U̶L̶A̶ : WYPRZEDANA\nIII PULA: 30 ZŁ - http://bit.ly
 /srgliwice\n\nWidzimy się w Klubie Spirala w Gliwicach już 24 kwietnia!
ATTACH;FMTTYPE=image/jpeg:https://night4u.pl/wp-content/uploads/2020/03/15
 3394_image_90353340_217618452952498_9044448342163062784_o.jpg
CATEGORIES:śląskie
LOCATION:Klub Studencki Spirala\, Pszczyńska 85\, Gliwice\, 44-100\, Polan
 d
GEO:50.28534;18.67771
X-APPLE-STRUCTURED-LOCATION;VALUE=URI;X-ADDRESS=Pszczyńska 85\, Gliwice\, 
 44-100\, Poland;X-APPLE-RADIUS=100;X-TITLE=Klub Studencki Spirala:geo:50.2
 8534,18.67771
END:VEVENT
BEGIN:VTIMEZONE
TZID:Europe/Warsaw
X-LIC-LOCATION:Europe/Warsaw
BEGIN:DAYLIGHT
DTSTART:20200329T030000
TZOFFSETFROM:+0100
TZOFFSETTO:+0200
TZNAME:CEST
END:DAYLIGHT
END:VTIMEZONE
END:VCALENDAR